BEGIN:VCALENDAR
VERSION:2.0
PRODID:-//Факултетен студентски съвет при ФМИ - ECPv5.16.3.1//NONSGML v1.0//EN
CALSCALE:GREGORIAN
METHOD:PUBLISH
X-WR-CALNAME:Факултетен студентски съвет при ФМИ
X-ORIGINAL-URL:https://fss.fmi.uni-sofia.bg
X-WR-CALDESC:Events for Факултетен студентски съвет при ФМИ
BEGIN:VTIMEZONE
TZID:Europe/Sofia
BEGIN:DAYLIGHT
TZOFFSETFROM:+0200
TZOFFSETTO:+0300
TZNAME:EEST
DTSTART:20160327T010000
END:DAYLIGHT
BEGIN:STANDARD
TZOFFSETFROM:+0300
TZOFFSETTO:+0200
TZNAME:EET
DTSTART:20161030T010000
END:STANDARD
END:VTIMEZONE
BEGIN:VEVENT
DTSTART;TZID=Europe/Sofia:20160515T080000
DTEND;TZID=Europe/Sofia:20160515T170000
DTSTAMP:20260425T192404
CREATED:20160515T161956Z
LAST-MODIFIED:20160515T161956Z
UID:7226-1463299200-1463331600@fss.fmi.uni-sofia.bg
SUMMARY:Ден на отворените врати в SAP Labs Bulgaria
DESCRIPTION:
URL:https://fss.fmi.uni-sofia.bg/?tribe_events=%d0%b4%d0%b5%d0%bd-%d0%bd%d0%b0-%d0%be%d1%82%d0%b2%d0%be%d1%80%d0%b5%d0%bd%d0%b8%d1%82%d0%b5-%d0%b2%d1%80%d0%b0%d1%82%d0%b8-%d0%b2-sap-labs-bulgaria
CATEGORIES:ФМИ
END:VEVENT
END:VCALENDAR