BEGIN:VCALENDAR
VERSION:2.0
PRODID:-//Факултетен студентски съвет при ФМИ - ECPv5.16.3.1//NONSGML v1.0//EN
CALSCALE:GREGORIAN
METHOD:PUBLISH
X-WR-CALNAME:Факултетен студентски съвет при ФМИ
X-ORIGINAL-URL:https://fss.fmi.uni-sofia.bg
X-WR-CALDESC:Events for Факултетен студентски съвет при ФМИ
BEGIN:VTIMEZONE
TZID:Europe/Sofia
BEGIN:DAYLIGHT
TZOFFSETFROM:+0200
TZOFFSETTO:+0300
TZNAME:EEST
DTSTART:20160327T010000
END:DAYLIGHT
BEGIN:STANDARD
TZOFFSETFROM:+0300
TZOFFSETTO:+0200
TZNAME:EET
DTSTART:20161030T010000
END:STANDARD
END:VTIMEZONE
BEGIN:VEVENT
DTSTART;TZID=Europe/Sofia:20160630T080000
DTEND;TZID=Europe/Sofia:20160630T170000
DTSTAMP:20260425T223042
CREATED:20160630T143047Z
LAST-MODIFIED:20160630T143047Z
UID:7389-1467273600-1467306000@fss.fmi.uni-sofia.bg
SUMMARY:ДИ\, Септемврийска сесия\, подаване на заявки
DESCRIPTION:Държавният изпит ще се проведа на 9 и 10 септември.\n	Заявки за допускане до държавен изпит ще се подават от 1 до 31 август в 221\, отдел "Студенти". \n	Отдел "Студенти"\n	Местоположение: ФМИ\, ет. II\, Дясно крило\, каб. 221\n	Приемно време:  9:30 – 12:00 и 13:30 – 16:00 ч.\n	Mail: studenti@fmi.uni-sofia.bg\n	Тел.: 02 8161 542 или 02 8623 483
URL:https://fss.fmi.uni-sofia.bg/?tribe_events=%d0%b4%d0%b8-%d1%81%d0%b5%d0%bf%d1%82%d0%b5%d0%bc%d0%b2%d1%80%d0%b8%d0%b9%d1%81%d0%ba%d0%b0-%d1%81%d0%b5%d1%81%d0%b8%d1%8f-%d0%bf%d0%be%d0%b4%d0%b0%d0%b2%d0%b0%d0%bd%d0%b5-%d0%bd%d0%b0-%d0%b7%d0%b0
CATEGORIES:държавен изпит,сесия,ФМИ
END:VEVENT
END:VCALENDAR