BEGIN:VCALENDAR
VERSION:2.0
PRODID:-//Факултетен студентски съвет при ФМИ - ECPv5.16.3.1//NONSGML v1.0//EN
CALSCALE:GREGORIAN
METHOD:PUBLISH
X-WR-CALNAME:Факултетен студентски съвет при ФМИ
X-ORIGINAL-URL:https://fss.fmi.uni-sofia.bg
X-WR-CALDESC:Events for Факултетен студентски съвет при ФМИ
BEGIN:VTIMEZONE
TZID:Europe/Sofia
BEGIN:DAYLIGHT
TZOFFSETFROM:+0200
TZOFFSETTO:+0300
TZNAME:EEST
DTSTART:20160327T010000
END:DAYLIGHT
BEGIN:STANDARD
TZOFFSETFROM:+0300
TZOFFSETTO:+0200
TZNAME:EET
DTSTART:20161030T010000
END:STANDARD
END:VTIMEZONE
BEGIN:VEVENT
DTSTART;TZID=Europe/Sofia:20160214T100000
DTEND;TZID=Europe/Sofia:20160214T130000
DTSTAMP:20260426T023525
CREATED:20160210T113607Z
LAST-MODIFIED:20160210T113607Z
UID:6197-1455444000-1455454800@fss.fmi.uni-sofia.bg
SUMMARY:Допълнително обучение\, Линейна алгебра\, Приложна математика 1 курс
DESCRIPTION:
URL:https://fss.fmi.uni-sofia.bg/?tribe_events=%d0%b4%d0%be%d0%bf%d1%8a%d0%bb%d0%bd%d0%b8%d1%82%d0%b5%d0%bb%d0%bd%d0%be-%d0%be%d0%b1%d1%83%d1%87%d0%b5%d0%bd%d0%b8%d0%b5-%d0%bb%d0%b8%d0%bd%d0%b5%d0%b9%d0%bd%d0%b0-%d0%b0%d0%bb%d0%b3%d0%b5%d0%b1
LOCATION:Зала 326\, Факултет по математика и информатика\, София\, София - град\, 1164\, България
CATEGORIES:допълнителни обучения
END:VEVENT
END:VCALENDAR