BEGIN:VCALENDAR
VERSION:2.0
PRODID:-//Факултетен студентски съвет при ФМИ - ECPv5.16.3.1//NONSGML v1.0//EN
CALSCALE:GREGORIAN
METHOD:PUBLISH
X-WR-CALNAME:Факултетен студентски съвет при ФМИ
X-ORIGINAL-URL:https://fss.fmi.uni-sofia.bg
X-WR-CALDESC:Events for Факултетен студентски съвет при ФМИ
BEGIN:VTIMEZONE
TZID:Europe/Sofia
BEGIN:DAYLIGHT
TZOFFSETFROM:+0200
TZOFFSETTO:+0300
TZNAME:EEST
DTSTART:20160327T010000
END:DAYLIGHT
BEGIN:STANDARD
TZOFFSETFROM:+0300
TZOFFSETTO:+0200
TZNAME:EET
DTSTART:20161030T010000
END:STANDARD
END:VTIMEZONE
BEGIN:VEVENT
DTSTART;TZID=Europe/Sofia:20160412T130000
DTEND;TZID=Europe/Sofia:20160412T150000
DTSTAMP:20260425T223041
CREATED:20160411T151600Z
LAST-MODIFIED:20160411T151629Z
UID:6939-1460466000-1460473200@fss.fmi.uni-sofia.bg
SUMMARY:Допълнително обучение по "Диференциално и Интегрално Смятане II"\, 1 курс\, сп. "Математика и информатика"\, 12 април
DESCRIPTION:На 12.04.2016 г. от 13:00 до 15:00 часа в зала 601 на ФХФ ще се проведе допълнително краткосрочно обучение по "Диференциално и Интегрално Смятане II" за студентите от 1 курс\, сп. "Математика и информатика".\n \n\n	Обученията се организират в рамките на програма ЕОС.\n \n\n	Лектор Петър Недевски.
URL:https://fss.fmi.uni-sofia.bg/?tribe_events=%d0%b4%d0%be%d0%bf%d1%8a%d0%bb%d0%bd%d0%b8%d1%82%d0%b5%d0%bb%d0%bd%d0%be-%d0%be%d0%b1%d1%83%d1%87%d0%b5%d0%bd%d0%b8%d0%b5-%d0%bf%d0%be-%d0%b4%d0%b8%d1%84%d0%b5%d1%80%d0%b5%d0%bd%d1%86%d0%b8%d0%b0
LOCATION:зала 601\, Факултет по химия и фармация\, София\, София - град\, 1164\, България
END:VEVENT
END:VCALENDAR