BEGIN:VCALENDAR
VERSION:2.0
PRODID:-//Факултетен студентски съвет при ФМИ - ECPv5.16.3.1//NONSGML v1.0//EN
CALSCALE:GREGORIAN
METHOD:PUBLISH
X-WR-CALNAME:Факултетен студентски съвет при ФМИ
X-ORIGINAL-URL:https://fss.fmi.uni-sofia.bg
X-WR-CALDESC:Events for Факултетен студентски съвет при ФМИ
BEGIN:VTIMEZONE
TZID:Europe/Sofia
BEGIN:DAYLIGHT
TZOFFSETFROM:+0200
TZOFFSETTO:+0300
TZNAME:EEST
DTSTART:20160327T010000
END:DAYLIGHT
BEGIN:STANDARD
TZOFFSETFROM:+0300
TZOFFSETTO:+0200
TZNAME:EET
DTSTART:20161030T010000
END:STANDARD
END:VTIMEZONE
BEGIN:VEVENT
DTSTART;TZID=Europe/Sofia:20160409T100000
DTEND;TZID=Europe/Sofia:20160409T130000
DTSTAMP:20260425T143940
CREATED:20160405T104257Z
LAST-MODIFIED:20160405T104257Z
UID:6839-1460196000-1460206800@fss.fmi.uni-sofia.bg
SUMMARY:Допълнително обучение\, Числени методи\, спец. Информатика
DESCRIPTION:На 09.04.2016 (събота) от 10 ч. до 13 ч. в зала 02 ще се проведе допълнително обучение по ЧМ за спец. Информатика 2 к.\nЛектор: Силви-Мария Гюрова.\nОбучението се организира в рамките на програма ЕОС.
URL:https://fss.fmi.uni-sofia.bg/?tribe_events=%d0%b4%d0%be%d0%bf%d1%8a%d0%bb%d0%bd%d0%b8%d1%82%d0%b5%d0%bb%d0%bd%d0%be-%d0%be%d0%b1%d1%83%d1%87%d0%b5%d0%bd%d0%b8%d0%b5-%d1%87%d0%b8%d1%81%d0%bb%d0%b5%d0%bd%d0%b8-%d0%bc%d0%b5%d1%82%d0%be%d0%b4
LOCATION:зала 02\, Факултет по математика и информатика\, София\, София - град\, 1164\, България
CATEGORIES:допълнителни обучения
END:VEVENT
END:VCALENDAR