BEGIN:VCALENDAR
VERSION:2.0
PRODID:-//Факултетен студентски съвет при ФМИ - ECPv5.16.3.1//NONSGML v1.0//EN
CALSCALE:GREGORIAN
METHOD:PUBLISH
X-WR-CALNAME:Факултетен студентски съвет при ФМИ
X-ORIGINAL-URL:https://fss.fmi.uni-sofia.bg
X-WR-CALDESC:Events for Факултетен студентски съвет при ФМИ
BEGIN:VTIMEZONE
TZID:Europe/Sofia
BEGIN:DAYLIGHT
TZOFFSETFROM:+0200
TZOFFSETTO:+0300
TZNAME:EEST
DTSTART:20160327T010000
END:DAYLIGHT
BEGIN:STANDARD
TZOFFSETFROM:+0300
TZOFFSETTO:+0200
TZNAME:EET
DTSTART:20161030T010000
END:STANDARD
END:VTIMEZONE
BEGIN:VEVENT
DTSTART;TZID=Europe/Sofia:20160605T110000
DTEND;TZID=Europe/Sofia:20160605T160000
DTSTAMP:20260426T000515
CREATED:20160601T124936Z
LAST-MODIFIED:20160601T124936Z
UID:7333-1465124400-1465142400@fss.fmi.uni-sofia.bg
SUMMARY:ДО\, Висша алгебра\, специалности Информатика\, Приложна математика и Математика\, 1 курс
DESCRIPTION:На 5 юни(неделя) от 11 до 16 ч. в зала 101 ще се проведе допълнително обучение по Висша алгебра.\n \n\n	Лектор: Владимира Суванджиева
URL:https://fss.fmi.uni-sofia.bg/?tribe_events=%d0%b4%d0%be-%d0%b2%d0%b8%d1%81%d1%88%d0%b0-%d0%b0%d0%bb%d0%b3%d0%b5%d0%b1%d1%80%d0%b0-%d1%81%d0%bf%d0%b5%d1%86%d0%b8%d0%b0%d0%bb%d0%bd%d0%be%d1%81%d1%82%d0%b8-%d0%b8%d0%bd%d1%84%d0%be%d1%80%d0%bc
LOCATION:зала 101\, Факултет по математика и информатика\, София\, София - град\, 1164\, България
CATEGORIES:допълнителни обучения
END:VEVENT
END:VCALENDAR