BEGIN:VCALENDAR
VERSION:2.0
PRODID:-//Факултетен студентски съвет при ФМИ - ECPv5.16.3.1//NONSGML v1.0//EN
CALSCALE:GREGORIAN
METHOD:PUBLISH
X-WR-CALNAME:Факултетен студентски съвет при ФМИ
X-ORIGINAL-URL:https://fss.fmi.uni-sofia.bg
X-WR-CALDESC:Events for Факултетен студентски съвет при ФМИ
BEGIN:VTIMEZONE
TZID:Europe/Sofia
BEGIN:DAYLIGHT
TZOFFSETFROM:+0200
TZOFFSETTO:+0300
TZNAME:EEST
DTSTART:20160327T010000
END:DAYLIGHT
BEGIN:STANDARD
TZOFFSETFROM:+0300
TZOFFSETTO:+0200
TZNAME:EET
DTSTART:20161030T010000
END:STANDARD
END:VTIMEZONE
BEGIN:VEVENT
DTSTART;VALUE=DATE:20160606
DTEND;VALUE=DATE:20160621
DTSTAMP:20260425T223042
CREATED:20160602T091252Z
LAST-MODIFIED:20160602T091457Z
UID:7349-1465171200-1466467199@fss.fmi.uni-sofia.bg
SUMMARY:ДО\, ДИС 2\, спец. Приложна математика 1 курс
DESCRIPTION:На 06 юни 2016 г. (понеделник) от 13 ч. в зала 604 на ФХФ и \n	на 20 юни 2016 г. (понеделник) от 10 ч. в зала 604 на ФХФ ще се проведат допълнителни краткосрочни обучения по ДИС2  за студентите от специалност ''Приложна математика'' 1 курс. \n \n\n	Лектор: Петър Недевски.\n \n\n	Обученията се организират в рамките на програма ЕОС.
URL:https://fss.fmi.uni-sofia.bg/?tribe_events=%d0%b4%d0%be-%d0%b4%d0%b8%d1%81-2-%d1%81%d0%bf%d0%b5%d1%86-%d0%bf%d1%80%d0%b8%d0%bb%d0%be%d0%b6%d0%bd%d0%b0-%d0%bc%d0%b0%d1%82%d0%b5%d0%bc%d0%b0%d1%82%d0%b8%d0%ba%d0%b0-1-%d0%ba%d1%83%d1%80%d1%81
LOCATION:зала 604\, Факултет по химия и фармация\, София\, София - град\, 1164\, България
CATEGORIES:допълнителни обучения
END:VEVENT
END:VCALENDAR