BEGIN:VCALENDAR
VERSION:2.0
PRODID:-//Факултетен студентски съвет при ФМИ - ECPv5.16.3.1//NONSGML v1.0//EN
CALSCALE:GREGORIAN
METHOD:PUBLISH
X-WR-CALNAME:Факултетен студентски съвет при ФМИ
X-ORIGINAL-URL:https://fss.fmi.uni-sofia.bg
X-WR-CALDESC:Events for Факултетен студентски съвет при ФМИ
BEGIN:VTIMEZONE
TZID:Europe/Sofia
BEGIN:DAYLIGHT
TZOFFSETFROM:+0200
TZOFFSETTO:+0300
TZNAME:EEST
DTSTART:20160327T010000
END:DAYLIGHT
BEGIN:STANDARD
TZOFFSETFROM:+0300
TZOFFSETTO:+0200
TZNAME:EET
DTSTART:20161030T010000
END:STANDARD
END:VTIMEZONE
BEGIN:VEVENT
DTSTART;TZID=Europe/Sofia:20160605T100000
DTEND;TZID=Europe/Sofia:20160609T130000
DTSTAMP:20260426T014148
CREATED:20160601T123744Z
LAST-MODIFIED:20160601T123744Z
UID:7326-1465120800-1465477200@fss.fmi.uni-sofia.bg
SUMMARY:ДО\, Комплексен анализ\, Информатика\, 2 курс
DESCRIPTION:На 5 юни(неделя) от 10 до 13 ч. ще се проведе допълнително обучение по Комплексен анализ за спец. Информатика\, 2 курс.\n \n\n	Лектор: Силви-Мария Гюрова
URL:https://fss.fmi.uni-sofia.bg/?tribe_events=%d0%b4%d0%be-%d0%ba%d0%be%d0%bc%d0%bf%d0%bb%d0%b5%d0%ba%d1%81%d0%b5%d0%bd-%d0%b0%d0%bd%d0%b0%d0%bb%d0%b8%d0%b7-%d0%b8%d0%bd%d1%84%d0%be%d1%80%d0%bc%d0%b0%d1%82%d0%b8%d0%ba%d0%b0-2-%d0%ba%d1%83
LOCATION:Зала 326\, Факултет по математика и информатика\, София\, София - град\, 1164\, България
CATEGORIES:допълнителни обучения
END:VEVENT
END:VCALENDAR