BEGIN:VCALENDAR
VERSION:2.0
PRODID:-//Факултетен студентски съвет при ФМИ - ECPv5.16.3.1//NONSGML v1.0//EN
CALSCALE:GREGORIAN
METHOD:PUBLISH
X-WR-CALNAME:Факултетен студентски съвет при ФМИ
X-ORIGINAL-URL:https://fss.fmi.uni-sofia.bg
X-WR-CALDESC:Events for Факултетен студентски съвет при ФМИ
BEGIN:VTIMEZONE
TZID:Europe/Sofia
BEGIN:DAYLIGHT
TZOFFSETFROM:+0200
TZOFFSETTO:+0300
TZNAME:EEST
DTSTART:20150329T010000
END:DAYLIGHT
BEGIN:STANDARD
TZOFFSETFROM:+0300
TZOFFSETTO:+0200
TZNAME:EET
DTSTART:20151025T010000
END:STANDARD
END:VTIMEZONE
BEGIN:VEVENT
DTSTART;TZID=Europe/Sofia:20150626T080000
DTEND;TZID=Europe/Sofia:20150626T170000
DTSTAMP:20260425T192404
CREATED:20150626T125335Z
LAST-MODIFIED:20150626T125335Z
UID:5704-1435305600-1435338000@fss.fmi.uni-sofia.bg
SUMMARY:ДО по АСИ - подготовка за ДИ за спец. СИ
DESCRIPTION:На 29 юни 2015 г. от 15 ч. в зала С\, бл. 2 на СУ\, ще се проведе допълнително краткосрочно обучение по "Анализ на софтуерните изисквания" (подготовка за държавен изпит) за студентите от специалност "Софтуерно инженерство". \n \n\n	Лектор: доц. д-р Олга Георгиева
URL:https://fss.fmi.uni-sofia.bg/?tribe_events=%d0%b4%d0%be-%d0%bf%d0%be-%d0%b0%d1%81%d0%b8-%d0%bf%d0%be%d0%b4%d0%b3%d0%be%d1%82%d0%be%d0%b2%d0%ba%d0%b0-%d0%b7%d0%b0-%d0%b4%d0%b8-%d0%b7%d0%b0-%d1%81%d0%bf%d0%b5%d1%86-%d1%81%d0%b8
LOCATION:зала C\, бл. 2\, СУ\, ул. "Яна Лъскова" №2\, София\, София - град\, 1113\, България
CATEGORIES:допълнителни обучения
END:VEVENT
END:VCALENDAR