BEGIN:VCALENDAR
VERSION:2.0
PRODID:-//Факултетен студентски съвет при ФМИ - ECPv5.16.3.1//NONSGML v1.0//EN
CALSCALE:GREGORIAN
METHOD:PUBLISH
X-WR-CALNAME:Факултетен студентски съвет при ФМИ
X-ORIGINAL-URL:https://fss.fmi.uni-sofia.bg
X-WR-CALDESC:Events for Факултетен студентски съвет при ФМИ
BEGIN:VTIMEZONE
TZID:Europe/Sofia
BEGIN:DAYLIGHT
TZOFFSETFROM:+0200
TZOFFSETTO:+0300
TZNAME:EEST
DTSTART:20150329T010000
END:DAYLIGHT
BEGIN:STANDARD
TZOFFSETFROM:+0300
TZOFFSETTO:+0200
TZNAME:EET
DTSTART:20151025T010000
END:STANDARD
END:VTIMEZONE
BEGIN:VEVENT
DTSTART;TZID=Europe/Sofia:20150701T170000
DTEND;TZID=Europe/Sofia:20150701T190000
DTSTAMP:20260425T192403
CREATED:20150626T123309Z
LAST-MODIFIED:20150626T123309Z
UID:5699-1435770000-1435777200@fss.fmi.uni-sofia.bg
SUMMARY:ДО по БД - подготовка за ДИ за спец. Информатика
DESCRIPTION:Всеки студент от спец. Информатика\, който желае да посети допълнително обучение по Бази от данни за подготовка за ДИ\, да се запише за курса в Moodle.\n \n\n	Наименование на курса: "Бази данни – подготвка за ДИ"\n \n\n	Кратко име: DB_DI_2015\n \n\n	Адрес: http://moodle.openfmi.net/course/view.php?id=1789\n \n\n	Преподавател: ас. Георги Пенков\n \n\n	На 01.07.2015 от 17 ч. ще бъде отворен тест\, който записалите се трябва да положат с цел по-голяма ефективност на обучението.\n \n\n	Датата на обучението по БД ще бъде обявена в началото на следващата седмица.
URL:https://fss.fmi.uni-sofia.bg/?tribe_events=%d0%b4%d0%be-%d0%bf%d0%be-%d0%b1%d0%b4-%d0%bf%d0%be%d0%b4%d0%b3%d0%be%d1%82%d0%be%d0%b2%d0%ba%d0%b0-%d0%b7%d0%b0-%d0%b4%d0%b8-%d0%b7%d0%b0-%d1%81%d0%bf%d0%b5%d1%86-%d0%b8%d0%bd%d1%84%d0%be%d1%80
CATEGORIES:допълнителни обучения
END:VEVENT
END:VCALENDAR