BEGIN:VCALENDAR
VERSION:2.0
PRODID:-//Факултетен студентски съвет при ФМИ - ECPv5.16.3.1//NONSGML v1.0//EN
CALSCALE:GREGORIAN
METHOD:PUBLISH
X-WR-CALNAME:Факултетен студентски съвет при ФМИ
X-ORIGINAL-URL:https://fss.fmi.uni-sofia.bg
X-WR-CALDESC:Events for Факултетен студентски съвет при ФМИ
BEGIN:VTIMEZONE
TZID:Europe/Sofia
BEGIN:DAYLIGHT
TZOFFSETFROM:+0200
TZOFFSETTO:+0300
TZNAME:EEST
DTSTART:20150329T010000
END:DAYLIGHT
BEGIN:STANDARD
TZOFFSETFROM:+0300
TZOFFSETTO:+0200
TZNAME:EET
DTSTART:20151025T010000
END:STANDARD
END:VTIMEZONE
BEGIN:VEVENT
DTSTART;TZID=Europe/Sofia:20150415T180000
DTEND;TZID=Europe/Sofia:20150415T230000
DTSTAMP:20260425T174811
CREATED:20150407T213553Z
LAST-MODIFIED:20150407T213553Z
UID:5365-1429120800-1429138800@fss.fmi.uni-sofia.bg
SUMMARY:ДО по Геометрия за КН - I курс
DESCRIPTION:На 15.04.2015 г. (сряда) от 18:00 часа в зала 101 на ФМИ ще се проведе\nдопълнително краткосрочно обучение по Геометрия (подготовка за\nконтролно) за студентите от І-ви курс\, спец. Компютърни науки. Лектор:\nгл. ас. Юлиан Цанков.
URL:https://fss.fmi.uni-sofia.bg/?tribe_events=%d0%b4%d0%be-%d0%bf%d0%be-%d0%b3%d0%b5%d0%be%d0%bc%d0%b5%d1%82%d1%80%d0%b8%d1%8f-%d0%b7%d0%b0-%d0%ba%d0%bd-i-%d0%ba%d1%83%d1%80%d1%81
LOCATION:зала 101\, Факултет по математика и информатика\, София\, София - град\, 1164\, България
CATEGORIES:допълнителни обучения
END:VEVENT
END:VCALENDAR