BEGIN:VCALENDAR
VERSION:2.0
PRODID:-//Факултетен студентски съвет при ФМИ - ECPv5.16.3.1//NONSGML v1.0//EN
CALSCALE:GREGORIAN
METHOD:PUBLISH
X-WR-CALNAME:Факултетен студентски съвет при ФМИ
X-ORIGINAL-URL:https://fss.fmi.uni-sofia.bg
X-WR-CALDESC:Events for Факултетен студентски съвет при ФМИ
BEGIN:VTIMEZONE
TZID:Europe/Sofia
BEGIN:DAYLIGHT
TZOFFSETFROM:+0200
TZOFFSETTO:+0300
TZNAME:EEST
DTSTART:20150329T010000
END:DAYLIGHT
BEGIN:STANDARD
TZOFFSETFROM:+0300
TZOFFSETTO:+0200
TZNAME:EET
DTSTART:20151025T010000
END:STANDARD
END:VTIMEZONE
BEGIN:VEVENT
DTSTART;TZID=Europe/Sofia:20150109T100000
DTEND;TZID=Europe/Sofia:20150109T120000
DTSTAMP:20260425T161334
CREATED:20150108T205419Z
LAST-MODIFIED:20150108T205643Z
UID:4994-1420797600-1420804800@fss.fmi.uni-sofia.bg
SUMMARY:ДО по Алгебра I за КН - I курс
DESCRIPTION:На 09.01.2015 г. (петък) от 10:00 до 12:00 часа в зала 02 на ФМИ ще се проведе допълнително краткосрочно обучение по Алгебра І\, на което ще се обсъждат неяснотите по теорията\, за студентите от І-ви курс\, І-ви поток\, спец. Компютърни науки. Лектор: Илия Мардов.
URL:https://fss.fmi.uni-sofia.bg/?tribe_events=%d0%b4%d0%be-%d0%bf%d0%be-%d0%b4%d0%b8%d1%81-i-%d0%b7%d0%b0-%d0%ba%d0%bd-i-%d0%ba%d1%83%d1%80%d1%81
LOCATION:зала 02\, Факултет по математика и информатика\, София\, София - град\, 1164\, България
CATEGORIES:допълнителни обучения
END:VEVENT
END:VCALENDAR