BEGIN:VCALENDAR
VERSION:2.0
PRODID:-//Факултетен студентски съвет при ФМИ - ECPv5.16.3.1//NONSGML v1.0//EN
CALSCALE:GREGORIAN
METHOD:PUBLISH
X-WR-CALNAME:Факултетен студентски съвет при ФМИ
X-ORIGINAL-URL:https://fss.fmi.uni-sofia.bg
X-WR-CALDESC:Events for Факултетен студентски съвет при ФМИ
BEGIN:VTIMEZONE
TZID:Europe/Sofia
BEGIN:DAYLIGHT
TZOFFSETFROM:+0200
TZOFFSETTO:+0300
TZNAME:EEST
DTSTART:20150329T010000
END:DAYLIGHT
BEGIN:STANDARD
TZOFFSETFROM:+0300
TZOFFSETTO:+0200
TZNAME:EET
DTSTART:20151025T010000
END:STANDARD
END:VTIMEZONE
BEGIN:VEVENT
DTSTART;TZID=Europe/Sofia:20150113T080000
DTEND;TZID=Europe/Sofia:20150113T170000
DTSTAMP:20260425T161334
CREATED:20150113T193343Z
LAST-MODIFIED:20150113T193343Z
UID:5023-1421136000-1421168400@fss.fmi.uni-sofia.bg
SUMMARY:ДО по ДИС I за КН - I курс
DESCRIPTION:На 15 януари\, четвъртък\, от 09:00 ще се проведе допълнително краткосрочно обучение по ДИС l за l-ви курс\, II поток специалност КН\, в зала 01.\nЛектор ще бъде мат. Евгени Недялков
URL:https://fss.fmi.uni-sofia.bg/?tribe_events=%d0%b4%d0%be-%d0%bf%d0%be-%d0%b4%d0%b8%d1%81-i-%d0%b7%d0%b0-%d0%ba%d0%bd-i-%d0%ba%d1%83%d1%80%d1%81-2
LOCATION:зала 01\, Факултет по математика и информатика\, София\, София - град\, 1164\, България
CATEGORIES:допълнителни обучения
END:VEVENT
END:VCALENDAR