BEGIN:VCALENDAR
VERSION:2.0
PRODID:-//Факултетен студентски съвет при ФМИ - ECPv5.16.3.1//NONSGML v1.0//EN
CALSCALE:GREGORIAN
METHOD:PUBLISH
X-WR-CALNAME:Факултетен студентски съвет при ФМИ
X-ORIGINAL-URL:https://fss.fmi.uni-sofia.bg
X-WR-CALDESC:Events for Факултетен студентски съвет при ФМИ
BEGIN:VTIMEZONE
TZID:Europe/Sofia
BEGIN:DAYLIGHT
TZOFFSETFROM:+0200
TZOFFSETTO:+0300
TZNAME:EEST
DTSTART:20150329T010000
END:DAYLIGHT
BEGIN:STANDARD
TZOFFSETFROM:+0300
TZOFFSETTO:+0200
TZNAME:EET
DTSTART:20151025T010000
END:STANDARD
END:VTIMEZONE
BEGIN:VEVENT
DTSTART;TZID=Europe/Sofia:20150121T170000
DTEND;TZID=Europe/Sofia:20150121T220000
DTSTAMP:20260425T161334
CREATED:20150115T222332Z
LAST-MODIFIED:20150115T222332Z
UID:5033-1421859600-1421877600@fss.fmi.uni-sofia.bg
SUMMARY:ДО по ДИС I за СИ - I курс
DESCRIPTION:На 21.01.2015 (сряда) от 17:00 до 22:00 часа в зала 500 ще се проведе допълнително обучение по ДИС за 1-ви курс Софтуерно инженерство. Обучението е организирано по програма ЕОС.\nЛектор ще е ас. Росен Николов
URL:https://fss.fmi.uni-sofia.bg/?tribe_events=%d0%b4%d0%be-%d0%bf%d0%be-%d0%b4%d0%b8%d1%81-i-%d0%b7%d0%b0-%d1%81%d0%b8-i-%d0%ba%d1%83%d1%80%d1%81
LOCATION:зала 500\, Факултет по математика и информатика\, София\, София - град\, 1164\, България
CATEGORIES:допълнителни обучения
END:VEVENT
END:VCALENDAR