BEGIN:VCALENDAR
VERSION:2.0
PRODID:-//Факултетен студентски съвет при ФМИ - ECPv5.16.3.1//NONSGML v1.0//EN
CALSCALE:GREGORIAN
METHOD:PUBLISH
X-WR-CALNAME:Факултетен студентски съвет при ФМИ
X-ORIGINAL-URL:https://fss.fmi.uni-sofia.bg
X-WR-CALDESC:Events for Факултетен студентски съвет при ФМИ
BEGIN:VTIMEZONE
TZID:Europe/Sofia
BEGIN:DAYLIGHT
TZOFFSETFROM:+0200
TZOFFSETTO:+0300
TZNAME:EEST
DTSTART:20150329T010000
END:DAYLIGHT
BEGIN:STANDARD
TZOFFSETFROM:+0300
TZOFFSETTO:+0200
TZNAME:EET
DTSTART:20151025T010000
END:STANDARD
END:VTIMEZONE
BEGIN:VEVENT
DTSTART;TZID=Europe/Sofia:20150401T090000
DTEND;TZID=Europe/Sofia:20150401T140000
DTSTAMP:20260425T192405
CREATED:20150327T161411Z
LAST-MODIFIED:20150327T161411Z
UID:5345-1427878800-1427896800@fss.fmi.uni-sofia.bg
SUMMARY:ДО по ДИС II за Математика - I курс
DESCRIPTION:На 1 април 2015 г. от 9:00 ч. в зала А305 на ФЗФ ще се проведе допълнително краткосрочно обучение по ДИС 2  за студентите от специалност „Математика“ – І курс.\nЛектор: Любомир Андреев\nОбучението се организира в рамките на програма ЕОС.
URL:https://fss.fmi.uni-sofia.bg/?tribe_events=%d0%b4%d0%be-%d0%bf%d0%be-%d0%b4%d0%b8%d1%81-ii-%d0%b7%d0%b0-%d0%bc%d0%b0%d1%82%d0%b5%d0%bc%d0%b0%d1%82%d0%b8%d0%ba%d0%b0-i-%d0%ba%d1%83%d1%80%d1%81
LOCATION:зала 305\, Факултет по математика и информатика\, София\, София - град\, 1164\, България
CATEGORIES:допълнителни обучения
END:VEVENT
END:VCALENDAR