BEGIN:VCALENDAR
VERSION:2.0
PRODID:-//Факултетен студентски съвет при ФМИ - ECPv5.16.3.1//NONSGML v1.0//EN
CALSCALE:GREGORIAN
METHOD:PUBLISH
X-WR-CALNAME:Факултетен студентски съвет при ФМИ
X-ORIGINAL-URL:https://fss.fmi.uni-sofia.bg
X-WR-CALDESC:Events for Факултетен студентски съвет при ФМИ
BEGIN:VTIMEZONE
TZID:Europe/Sofia
BEGIN:DAYLIGHT
TZOFFSETFROM:+0200
TZOFFSETTO:+0300
TZNAME:EEST
DTSTART:20140330T010000
END:DAYLIGHT
BEGIN:STANDARD
TZOFFSETFROM:+0300
TZOFFSETTO:+0200
TZNAME:EET
DTSTART:20141026T010000
END:STANDARD
END:VTIMEZONE
BEGIN:VEVENT
DTSTART;TZID=Europe/Sofia:20141211T150000
DTEND;TZID=Europe/Sofia:20141211T200000
DTSTAMP:20260425T161335
CREATED:20141210T190013Z
LAST-MODIFIED:20141210T190828Z
UID:4816-1418310000-1418328000@fss.fmi.uni-sofia.bg
SUMMARY:ДО по ДС на ИС - I курс
DESCRIPTION:На 11.12.2014 г. (четвъртък) от 15:00 в зала 326 ще се проведе Допълнително обучение по Дискретни структури на Информационни системи – първи курс. Ще го води Стела Николова. 
URL:https://fss.fmi.uni-sofia.bg/?tribe_events=%d0%b4%d0%be-%d0%bf%d0%be-%d0%b4%d1%81-%d0%bd%d0%b0-%d0%b8%d1%81-i-%d0%ba%d1%83%d1%80%d1%81
LOCATION:Зала 326\, Факултет по математика и информатика\, София\, София - град\, 1164\, България
CATEGORIES:допълнителни обучения
END:VEVENT
END:VCALENDAR