BEGIN:VCALENDAR
VERSION:2.0
PRODID:-//Факултетен студентски съвет при ФМИ - ECPv5.16.3.1//NONSGML v1.0//EN
CALSCALE:GREGORIAN
METHOD:PUBLISH
X-WR-CALNAME:Факултетен студентски съвет при ФМИ
X-ORIGINAL-URL:https://fss.fmi.uni-sofia.bg
X-WR-CALDESC:Events for Факултетен студентски съвет при ФМИ
BEGIN:VTIMEZONE
TZID:Europe/Sofia
BEGIN:DAYLIGHT
TZOFFSETFROM:+0200
TZOFFSETTO:+0300
TZNAME:EEST
DTSTART:20150329T010000
END:DAYLIGHT
BEGIN:STANDARD
TZOFFSETFROM:+0300
TZOFFSETTO:+0200
TZNAME:EET
DTSTART:20151025T010000
END:STANDARD
END:VTIMEZONE
BEGIN:VEVENT
DTSTART;TZID=Europe/Sofia:20150214T100000
DTEND;TZID=Europe/Sofia:20150214T120000
DTSTAMP:20260425T192405
CREATED:20150209T195346Z
LAST-MODIFIED:20150209T195346Z
UID:5131-1423908000-1423915200@fss.fmi.uni-sofia.bg
SUMMARY:ДО по ЛА за Информатика - I курс
DESCRIPTION:На 14.02.2015 г. от 10:00 до 12:00 ч. в зала 101 ще се проведе допълнително обучение по Линейна алгебра за спец. Информатика – I курс. Лектор ще бъде Данаил Стоянов.\nОбучението се организира в рамките на програма ЕОС.
URL:https://fss.fmi.uni-sofia.bg/?tribe_events=%d0%b4%d0%be-%d0%bf%d0%be-%d0%bb%d0%b0-%d0%b7%d0%b0-%d0%b8%d0%bd%d1%84%d0%be%d1%80%d0%bc%d0%b0%d1%82%d0%b8%d0%ba%d0%b0-i-%d0%ba%d1%83%d1%80%d1%81-2
LOCATION:зала 101\, Факултет по математика и информатика\, София\, София - град\, 1164\, България
END:VEVENT
END:VCALENDAR