BEGIN:VCALENDAR
VERSION:2.0
PRODID:-//Факултетен студентски съвет при ФМИ - ECPv5.16.3.1//NONSGML v1.0//EN
CALSCALE:GREGORIAN
METHOD:PUBLISH
X-WR-CALNAME:Факултетен студентски съвет при ФМИ
X-ORIGINAL-URL:https://fss.fmi.uni-sofia.bg
X-WR-CALDESC:Events for Факултетен студентски съвет при ФМИ
BEGIN:VTIMEZONE
TZID:Europe/Sofia
BEGIN:DAYLIGHT
TZOFFSETFROM:+0200
TZOFFSETTO:+0300
TZNAME:EEST
DTSTART:20150329T010000
END:DAYLIGHT
BEGIN:STANDARD
TZOFFSETFROM:+0300
TZOFFSETTO:+0200
TZNAME:EET
DTSTART:20151025T010000
END:STANDARD
END:VTIMEZONE
BEGIN:VEVENT
DTSTART;TZID=Europe/Sofia:20150203T100000
DTEND;TZID=Europe/Sofia:20150203T150000
DTSTAMP:20260425T161335
CREATED:20150123T221406Z
LAST-MODIFIED:20150202T103118Z
UID:5074-1422957600-1422975600@fss.fmi.uni-sofia.bg
SUMMARY:ДО по ЛА за КН - I курс
DESCRIPTION:На 03.02.2015 г. (вторник) от 10:00 часа в зала 101 на ФМИ ще се\nпроведе допълнително краткосрочно обучение по Алгебра І (подготовка за\nписмения изпит) за студентите от І курс\, І поток\, спец.\nКомпютърни науки. Лектор: ас. Велико Дончев.
URL:https://fss.fmi.uni-sofia.bg/?tribe_events=%d0%b4%d0%be-%d0%bf%d0%be-%d0%bb%d0%b0-%d0%b7%d0%b0-%d0%ba%d0%bd-i-%d0%ba%d1%83%d1%80%d1%81-3
LOCATION:зала 101\, Факултет по математика и информатика\, София\, София - град\, 1164\, България
CATEGORIES:допълнителни обучения
END:VEVENT
END:VCALENDAR