BEGIN:VCALENDAR
VERSION:2.0
PRODID:-//Факултетен студентски съвет при ФМИ - ECPv5.16.3.1//NONSGML v1.0//EN
CALSCALE:GREGORIAN
METHOD:PUBLISH
X-WR-CALNAME:Факултетен студентски съвет при ФМИ
X-ORIGINAL-URL:https://fss.fmi.uni-sofia.bg
X-WR-CALDESC:Events for Факултетен студентски съвет при ФМИ
BEGIN:VTIMEZONE
TZID:Europe/Sofia
BEGIN:DAYLIGHT
TZOFFSETFROM:+0200
TZOFFSETTO:+0300
TZNAME:EEST
DTSTART:20140330T010000
END:DAYLIGHT
BEGIN:STANDARD
TZOFFSETFROM:+0300
TZOFFSETTO:+0200
TZNAME:EET
DTSTART:20141026T010000
END:STANDARD
END:VTIMEZONE
BEGIN:VEVENT
DTSTART;TZID=Europe/Sofia:20141217T090000
DTEND;TZID=Europe/Sofia:20141217T110000
DTSTAMP:20260425T174813
CREATED:20141211T234841Z
LAST-MODIFIED:20141212T192425Z
UID:4822-1418806800-1418814000@fss.fmi.uni-sofia.bg
SUMMARY:ДО по ЛА за СИ - I курс
DESCRIPTION:На 17.12.2014 (сряда) от 9:00 до 11:00 часа в зала А207 (ФзФ) ще се проведе допълнително обучение по Линейна алгебра за I курс Софтуерно инженерство\, организирано по програма ЕОС. Лектор ще е ас. К. Табаков.
URL:https://fss.fmi.uni-sofia.bg/?tribe_events=%d0%b4%d0%be-%d0%bf%d0%be-%d0%bb%d0%b0-%d0%b7%d0%b0-%d1%81%d0%b8-i-%d0%ba%d1%83%d1%80%d1%81
LOCATION:зала 207\, Физически факултет\, А сграда\, София\, София - град\, 1164\, България
CATEGORIES:допълнителни обучения
ORGANIZER;CN="%D0%B0%D1%81.%20%D0%9A%D0%BE%D0%BD%D1%81%D1%82%D0%B0%D0%BD%D1%82%D0%B8%D0%BD%20%D0%A2%D0%B0%D0%B1%D0%B0%D0%BA%D0%BE%D0%B2":MAILTO:ktabakov@fmi.uni-sofia.bg
END:VEVENT
END:VCALENDAR