BEGIN:VCALENDAR
VERSION:2.0
PRODID:-//Факултетен студентски съвет при ФМИ - ECPv5.16.3.1//NONSGML v1.0//EN
CALSCALE:GREGORIAN
METHOD:PUBLISH
X-WR-CALNAME:Факултетен студентски съвет при ФМИ
X-ORIGINAL-URL:https://fss.fmi.uni-sofia.bg
X-WR-CALDESC:Events for Факултетен студентски съвет при ФМИ
BEGIN:VTIMEZONE
TZID:Europe/Sofia
BEGIN:DAYLIGHT
TZOFFSETFROM:+0200
TZOFFSETTO:+0300
TZNAME:EEST
DTSTART:20150329T010000
END:DAYLIGHT
BEGIN:STANDARD
TZOFFSETFROM:+0300
TZOFFSETTO:+0200
TZNAME:EET
DTSTART:20151025T010000
END:STANDARD
END:VTIMEZONE
BEGIN:VEVENT
DTSTART;TZID=Europe/Sofia:20150216T100000
DTEND;TZID=Europe/Sofia:20150216T150000
DTSTAMP:20260425T161335
CREATED:20150213T172020Z
LAST-MODIFIED:20150215T193804Z
UID:5134-1424080800-1424098800@fss.fmi.uni-sofia.bg
SUMMARY:ДО по ЛА за СИ - I курс
DESCRIPTION:На 16.02.2015 г. от 10:00 до 15:00 в зала 604 на Химически факултет ще се проведе допълнително обучение по Линейна алгебра за студентите от специалност Софтуерно инженерство – I курс.\nЛектор ще бъде Асен Божилов.\nОбучението се организира в рамките на програмата  ЕОС.
URL:https://fss.fmi.uni-sofia.bg/?tribe_events=%d0%b4%d0%be-%d0%bf%d0%be-%d0%bb%d0%b0-%d0%b7%d0%b0-%d1%81%d0%b8-i-%d0%ba%d1%83%d1%80%d1%81-3
LOCATION:зала 604\, Факултет по химия и фармация\, София\, София - град\, 1164\, България
CATEGORIES:допълнителни обучения
END:VEVENT
END:VCALENDAR