BEGIN:VCALENDAR
VERSION:2.0
PRODID:-//Факултетен студентски съвет при ФМИ - ECPv5.16.3.1//NONSGML v1.0//EN
CALSCALE:GREGORIAN
METHOD:PUBLISH
X-WR-CALNAME:Факултетен студентски съвет при ФМИ
X-ORIGINAL-URL:https://fss.fmi.uni-sofia.bg
X-WR-CALDESC:Events for Факултетен студентски съвет при ФМИ
BEGIN:VTIMEZONE
TZID:Europe/Sofia
BEGIN:DAYLIGHT
TZOFFSETFROM:+0200
TZOFFSETTO:+0300
TZNAME:EEST
DTSTART:20150329T010000
END:DAYLIGHT
BEGIN:STANDARD
TZOFFSETFROM:+0300
TZOFFSETTO:+0200
TZNAME:EET
DTSTART:20151025T010000
END:STANDARD
END:VTIMEZONE
BEGIN:VEVENT
DTSTART;TZID=Europe/Sofia:20150629T100000
DTEND;TZID=Europe/Sofia:20150629T150000
DTSTAMP:20260425T192402
CREATED:20150626T131618Z
LAST-MODIFIED:20150626T134054Z
UID:5712-1435572000-1435590000@fss.fmi.uni-sofia.bg
SUMMARY:ДО по СЕП - подготовка за ДИ за спе. Информатика
DESCRIPTION:На 29.06.2015 г. от 10:00 до 15:00 часа в зала 101 ще се проведе допълнително обучение по Семантика на езиците за програмиране – подготовка за държавен изпит за студентите от спец. Информатика.\n \n\n	Лектор: доц. Стела Николова
URL:https://fss.fmi.uni-sofia.bg/?tribe_events=%d0%b4%d0%be-%d0%bf%d0%be-%d1%81%d0%b5%d0%bf-%d0%bf%d0%be%d0%b4%d0%b3%d0%be%d1%82%d0%be%d0%b2%d0%ba%d0%b0-%d0%b7%d0%b0-%d0%b4%d0%b8-%d0%b7%d0%b0-%d1%81%d0%bf%d0%b5-%d0%b8%d0%bd%d1%84%d0%be%d1%80
LOCATION:зала 101\, Факултет по математика и информатика\, София\, София - град\, 1164\, България
CATEGORIES:допълнителни обучения
END:VEVENT
END:VCALENDAR