BEGIN:VCALENDAR
VERSION:2.0
PRODID:-//Факултетен студентски съвет при ФМИ - ECPv5.16.3.1//NONSGML v1.0//EN
CALSCALE:GREGORIAN
METHOD:PUBLISH
X-WR-CALNAME:Факултетен студентски съвет при ФМИ
X-ORIGINAL-URL:https://fss.fmi.uni-sofia.bg
X-WR-CALDESC:Events for Факултетен студентски съвет при ФМИ
BEGIN:VTIMEZONE
TZID:Europe/Sofia
BEGIN:DAYLIGHT
TZOFFSETFROM:+0200
TZOFFSETTO:+0300
TZNAME:EEST
DTSTART:20140330T010000
END:DAYLIGHT
BEGIN:STANDARD
TZOFFSETFROM:+0300
TZOFFSETTO:+0200
TZNAME:EET
DTSTART:20141026T010000
END:STANDARD
END:VTIMEZONE
BEGIN:VEVENT
DTSTART;TZID=Europe/Sofia:20141214T090000
DTEND;TZID=Europe/Sofia:20141214T140000
DTSTAMP:20260425T161333
CREATED:20141210T185656Z
LAST-MODIFIED:20141210T190559Z
UID:4814-1418547600-1418565600@fss.fmi.uni-sofia.bg
SUMMARY:ДО по УП за КН - I курс
DESCRIPTION:Допълнително обучение по Увод в Програмирането за попълване на основни знания за КН I курс.\n	Обучението ще се проведе на 14 декември\, неделя от 9:00 в зала 326 с лектор Александър Велин.\n	 
URL:https://fss.fmi.uni-sofia.bg/?tribe_events=%d0%b4%d0%be-%d0%bf%d0%be-%d1%83%d0%bf-%d0%b7%d0%b0-%d0%ba%d0%bd-i-%d0%b2%d0%b8-%d0%ba%d1%83%d1%80%d1%81
LOCATION:Зала 326\, Факултет по математика и информатика\, София\, София - град\, 1164\, България
CATEGORIES:допълнителни обучения
END:VEVENT
END:VCALENDAR