BEGIN:VCALENDAR
VERSION:2.0
PRODID:-//Факултетен студентски съвет при ФМИ - ECPv5.16.3.1//NONSGML v1.0//EN
CALSCALE:GREGORIAN
METHOD:PUBLISH
X-WR-CALNAME:Факултетен студентски съвет при ФМИ
X-ORIGINAL-URL:https://fss.fmi.uni-sofia.bg
X-WR-CALDESC:Events for Факултетен студентски съвет при ФМИ
BEGIN:VTIMEZONE
TZID:Europe/Sofia
BEGIN:DAYLIGHT
TZOFFSETFROM:+0200
TZOFFSETTO:+0300
TZNAME:EEST
DTSTART:20150329T010000
END:DAYLIGHT
BEGIN:STANDARD
TZOFFSETFROM:+0300
TZOFFSETTO:+0200
TZNAME:EET
DTSTART:20151025T010000
END:STANDARD
END:VTIMEZONE
BEGIN:VEVENT
DTSTART;TZID=Europe/Sofia:20150612T180000
DTEND;TZID=Europe/Sofia:20150612T210000
DTSTAMP:20260425T223043
CREATED:20150611T205801Z
LAST-MODIFIED:20150611T205801Z
UID:5673-1434132000-1434142800@fss.fmi.uni-sofia.bg
SUMMARY:ДО по ЧМА - подготовка за Държавен изпит
DESCRIPTION:На 12.06.2015 г. (петък) от 18 часа в стая 218 ще се проведе консултация по ЧМА – задачи за подготовка за Държавен изпит. \n \n\n	Лектор: ас. Тихомир Иванов
URL:https://fss.fmi.uni-sofia.bg/?tribe_events=%d0%b4%d0%be-%d0%bf%d0%be-%d1%87%d0%bc%d0%b0-%d0%bf%d0%be%d0%b4%d0%b3%d0%be%d1%82%d0%be%d0%b2%d0%ba%d0%b0-%d0%b7%d0%b0-%d0%b4%d1%8a%d1%80%d0%b6%d0%b0%d0%b2%d0%b5%d0%bd-%d0%b8%d0%b7%d0%bf%d0%b8%d1%82
LOCATION:зала 218\, Факултет по математика и информатика\, София\, София - град\, 1164\, България
CATEGORIES:допълнителни обучения
END:VEVENT
END:VCALENDAR