BEGIN:VCALENDAR
VERSION:2.0
PRODID:-//Факултетен студентски съвет при ФМИ - ECPv5.16.3.1//NONSGML v1.0//EN
CALSCALE:GREGORIAN
METHOD:PUBLISH
X-WR-CALNAME:Факултетен студентски съвет при ФМИ
X-ORIGINAL-URL:https://fss.fmi.uni-sofia.bg
X-WR-CALDESC:Events for Факултетен студентски съвет при ФМИ
BEGIN:VTIMEZONE
TZID:Europe/Sofia
BEGIN:DAYLIGHT
TZOFFSETFROM:+0200
TZOFFSETTO:+0300
TZNAME:EEST
DTSTART:20160327T010000
END:DAYLIGHT
BEGIN:STANDARD
TZOFFSETFROM:+0300
TZOFFSETTO:+0200
TZNAME:EET
DTSTART:20161030T010000
END:STANDARD
END:VTIMEZONE
BEGIN:VEVENT
DTSTART;VALUE=DATE:20160510
DTEND;VALUE=DATE:20160531
DTSTAMP:20260425T192403
CREATED:20160506T161832Z
LAST-MODIFIED:20160506T191848Z
UID:7126-1462838400-1464652799@fss.fmi.uni-sofia.bg
SUMMARY:ЕВРОСТИПЕНДИИ\, Летен семестър 2015/2016г.
DESCRIPTION:
URL:https://fss.fmi.uni-sofia.bg/?tribe_events=%d0%b5%d0%b2%d1%80%d0%be%d1%81%d1%82%d0%b8%d0%bf%d0%b5%d0%bd%d0%b4%d0%b8%d0%b8-%d0%bb%d0%b5%d1%82%d0%b5%d0%bd-%d1%81%d0%b5%d0%bc%d0%b5%d1%81%d1%82%d1%8a%d1%80-20152016%d0%b3
END:VEVENT
END:VCALENDAR