BEGIN:VCALENDAR
VERSION:2.0
PRODID:-//Факултетен студентски съвет при ФМИ - ECPv5.16.3.1//NONSGML v1.0//EN
CALSCALE:GREGORIAN
METHOD:PUBLISH
X-WR-CALNAME:Факултетен студентски съвет при ФМИ
X-ORIGINAL-URL:https://fss.fmi.uni-sofia.bg
X-WR-CALDESC:Events for Факултетен студентски съвет при ФМИ
BEGIN:VTIMEZONE
TZID:Europe/Sofia
BEGIN:DAYLIGHT
TZOFFSETFROM:+0200
TZOFFSETTO:+0300
TZNAME:EEST
DTSTART:20160327T010000
END:DAYLIGHT
BEGIN:STANDARD
TZOFFSETFROM:+0300
TZOFFSETTO:+0200
TZNAME:EET
DTSTART:20161030T010000
END:STANDARD
END:VTIMEZONE
BEGIN:VEVENT
DTSTART;VALUE=DATE:20160302
DTEND;VALUE=DATE:20160319
DTSTAMP:20260425T225520
CREATED:20160308T052700Z
LAST-MODIFIED:20160308T052700Z
UID:6539-1456876800-1458345599@fss.fmi.uni-sofia.bg
SUMMARY:Записване за избираеми дисциплини - ОКС Магистър
DESCRIPTION:Уажаеми колеги\,\n \n\n	стартира кампанията за записване на избираеми дисциплини ОКС Магистър.\n	Ако не знаете как да се запишете за дадена избираема\, може да намерите подробна информация за това тук. \n	Повече информация\, може да намерите в сайта на ФМИ.
URL:https://fss.fmi.uni-sofia.bg/?tribe_events=%d0%b7%d0%b0%d0%bf%d0%b8%d1%81%d0%b2%d0%b0%d0%bd%d0%b5-%d0%b7%d0%b0-%d0%b8%d0%b7%d0%b1%d0%b8%d1%80%d0%b0%d0%b5%d0%bc%d0%b8-%d0%b4%d0%b8%d1%81%d1%86%d0%b8%d0%bf%d0%bb%d0%b8%d0%bd%d0%b8-%d0%be%d0%ba
END:VEVENT
END:VCALENDAR