BEGIN:VCALENDAR
VERSION:2.0
PRODID:-//Факултетен студентски съвет при ФМИ - ECPv5.16.3.1//NONSGML v1.0//EN
CALSCALE:GREGORIAN
METHOD:PUBLISH
X-WR-CALNAME:Факултетен студентски съвет при ФМИ
X-ORIGINAL-URL:https://fss.fmi.uni-sofia.bg
X-WR-CALDESC:Events for Факултетен студентски съвет при ФМИ
BEGIN:VTIMEZONE
TZID:Europe/Sofia
BEGIN:DAYLIGHT
TZOFFSETFROM:+0200
TZOFFSETTO:+0300
TZNAME:EEST
DTSTART:20160327T010000
END:DAYLIGHT
BEGIN:STANDARD
TZOFFSETFROM:+0300
TZOFFSETTO:+0200
TZNAME:EET
DTSTART:20161030T010000
END:STANDARD
END:VTIMEZONE
BEGIN:VEVENT
DTSTART;TZID=Europe/Sofia:20160210T093000
DTEND;TZID=Europe/Sofia:20160311T160000
DTSTAMP:20260425T212055
CREATED:20160210T114022Z
LAST-MODIFIED:20160217T065919Z
UID:6200-1455096600-1457712000@fss.fmi.uni-sofia.bg
SUMMARY:Записване за летен семестър 2015/2016 г.
DESCRIPTION:Уважаеми колеги\,\n \n\n	Записването на летния семестър е до петък 11 март 2016 г.\n \n\n	Няма промени в семестриалните такси\, нито има нови изисквания за записването.\n \n\n	За плащането може да видите пълна информация: Полезни ресурси -> Административни звена -> Каса на ФМИ\n \n\n	За приемното време на отдел "Студенти": Полезни ресурси -> Административни звена -> Отдел "Студенти"\n \n\n	При плащане по друг начин\, освен през касата на СУ е задължително да минете за печат през касата на ФМИ или през Паричен салон\, за печат в книжките. \n \n\n	Ако желаете да прекъснете обучението си\, подавате заявление за прекъсване на учебната година в горния срок. Прекъсването е за минимум 1 учебна година.\n \n\n	Ако сте на общежитие и Ви искат уверения за записан семестър\, направо си ги подгответе като ходите да записвате семестъра\, с цел по-малко разкарвания по отделите.\n	 
URL:https://fss.fmi.uni-sofia.bg/?tribe_events=%d0%b7%d0%b0%d0%bf%d0%b8%d1%81%d0%b2%d0%b0%d0%bd%d0%b5-%d0%b7%d0%b0-%d0%bb%d0%b5%d1%82%d0%b5%d0%bd-%d1%81%d0%b5%d0%bc%d0%b5%d1%81%d1%82%d1%8a%d1%80-20152016
LOCATION:Отдел „Студенти“ – каб. 220 (за магистри)\, каб. 221 (за бакалаври)\, Факултет по математика и информатика\, София\, София - град\, 1164\, България
CATEGORIES:записване на семестър
END:VEVENT
END:VCALENDAR