BEGIN:VCALENDAR
VERSION:2.0
PRODID:-//Факултетен студентски съвет при ФМИ - ECPv5.16.3.1//NONSGML v1.0//EN
CALSCALE:GREGORIAN
METHOD:PUBLISH
X-WR-CALNAME:Факултетен студентски съвет при ФМИ
X-ORIGINAL-URL:https://fss.fmi.uni-sofia.bg
X-WR-CALDESC:Events for Факултетен студентски съвет при ФМИ
BEGIN:VTIMEZONE
TZID:Europe/Sofia
BEGIN:DAYLIGHT
TZOFFSETFROM:+0200
TZOFFSETTO:+0300
TZNAME:EEST
DTSTART:20150329T010000
END:DAYLIGHT
BEGIN:STANDARD
TZOFFSETFROM:+0300
TZOFFSETTO:+0200
TZNAME:EET
DTSTART:20151025T010000
END:STANDARD
END:VTIMEZONE
BEGIN:VEVENT
DTSTART;TZID=Europe/Sofia:20150917T080000
DTEND;TZID=Europe/Sofia:20150925T163000
DTSTAMP:20260425T192401
CREATED:20150917T085322Z
LAST-MODIFIED:20150925T050955Z
UID:5827-1442476800-1443198600@fss.fmi.uni-sofia.bg
SUMMARY:Записване за по-горен курс на студенти с повече от 3 изпита от текущата година / променена
DESCRIPTION:Записването за следващ курс на студенти с повече от 3 изпита от текущата година или ако имат изпити от текущата и изминали години и общият им брой е минимум 3 става като се напише заявление\, на ръка\, а не се попълва шаблон\, в което се посочват колко\, кои и от кой курс са изпитите и причината/ите\, поради които не са били взети. Заявленията се подават в отдел „Студенти“\, като крайната дата за подаване е 25.09.2015 г. (петък). \nЕто тук можете да намерите образец\, по който да се водите. \nВ допълнение\, отдел „Студенти“ няма да работи на 21.09.2015 г. (понеделник).
URL:https://fss.fmi.uni-sofia.bg/?tribe_events=%d0%b7%d0%b0%d0%bf%d0%b8%d1%81%d0%b2%d0%b0%d0%bd%d0%b5-%d0%b7%d0%b0-%d0%bf%d0%be-%d0%b3%d0%be%d1%80%d0%b5%d0%bd-%d0%ba%d1%83%d1%80%d1%81-%d0%bd%d0%b0-%d1%81%d1%82%d1%83%d0%b4%d0%b5%d0%bd%d1%82%d0%b8
LOCATION:Отдел „Студенти“ – каб. 220 (за магистри)\, каб. 221 (за бакалаври)\, Факултет по математика и информатика\, София\, София - град\, 1164\, България
CATEGORIES:записване на семестър
END:VEVENT
END:VCALENDAR