BEGIN:VCALENDAR
VERSION:2.0
PRODID:-//Факултетен студентски съвет при ФМИ - ECPv5.16.3.1//NONSGML v1.0//EN
CALSCALE:GREGORIAN
METHOD:PUBLISH
X-WR-CALNAME:Факултетен студентски съвет при ФМИ
X-ORIGINAL-URL:https://fss.fmi.uni-sofia.bg
X-WR-CALDESC:Events for Факултетен студентски съвет при ФМИ
BEGIN:VTIMEZONE
TZID:Europe/Sofia
BEGIN:DAYLIGHT
TZOFFSETFROM:+0200
TZOFFSETTO:+0300
TZNAME:EEST
DTSTART:20150329T010000
END:DAYLIGHT
BEGIN:STANDARD
TZOFFSETFROM:+0300
TZOFFSETTO:+0200
TZNAME:EET
DTSTART:20151025T010000
END:STANDARD
END:VTIMEZONE
BEGIN:VEVENT
DTSTART;VALUE=DATE:20150911
DTEND;VALUE=DATE:20151012
DTSTAMP:20260425T223041
CREATED:20150910T141518Z
LAST-MODIFIED:20150911T090821Z
UID:5808-1441929600-1444607999@fss.fmi.uni-sofia.bg
SUMMARY:Записване на избираеми дисциплини
DESCRIPTION:Записването на избираеми дисциплини започва в 0:00 ч.* на 11 септември няма повече подробности за отписването на избрани дисциплини\, брой етапи и ограничения на броя избираеми\, които ще може да се записват.\n*Вече трябваше да е почнало\, дори и след началото на работния ден. На сайта на ФМИ е посочено\, че днес ще ги пуснат.\n\nОчакваме ограничението да е отново 4. \nЗаписването на дисциплините ще стане в СУСИ. \n \nСписък с избираемите дисциплини за зимния семестър на уч. 2015/16 \nЗа да видите анотациите на курсовете трябва да се логнете в сайта на ФМИ със СУСИ профила си.
URL:https://fss.fmi.uni-sofia.bg/?tribe_events=%d0%b7%d0%b0%d0%bf%d0%b8%d1%81%d0%b2%d0%b0%d0%bd%d0%b5-%d0%bd%d0%b0-%d0%b8%d0%b7%d0%b1%d0%b8%d1%80%d0%b0%d0%b5%d0%bc%d0%b8-%d0%b4%d0%b8%d1%81%d1%86%d0%b8%d0%bf%d0%bb%d0%b8%d0%bd%d0%b8
LOCATION:Факултет по математика и информатика\, бул. "Джеймс Баучер" №5\, София\, София - град\, 1164\, България
CATEGORIES:избиране на избираеми дисциплини
END:VEVENT
END:VCALENDAR