BEGIN:VCALENDAR
VERSION:2.0
PRODID:-//Факултетен студентски съвет при ФМИ - ECPv5.16.3.1//NONSGML v1.0//EN
CALSCALE:GREGORIAN
METHOD:PUBLISH
X-WR-CALNAME:Факултетен студентски съвет при ФМИ
X-ORIGINAL-URL:https://fss.fmi.uni-sofia.bg
X-WR-CALDESC:Events for Факултетен студентски съвет при ФМИ
BEGIN:VTIMEZONE
TZID:Europe/Sofia
BEGIN:DAYLIGHT
TZOFFSETFROM:+0200
TZOFFSETTO:+0300
TZNAME:EEST
DTSTART:20150329T010000
END:DAYLIGHT
BEGIN:STANDARD
TZOFFSETFROM:+0300
TZOFFSETTO:+0200
TZNAME:EET
DTSTART:20151025T010000
END:STANDARD
END:VTIMEZONE
BEGIN:VEVENT
DTSTART;TZID=Europe/Sofia:20151119T181500
DTEND;TZID=Europe/Sofia:20151119T200000
DTSTAMP:20260425T223044
CREATED:20151115T180350Z
LAST-MODIFIED:20151115T180350Z
UID:6014-1447956900-1447963200@fss.fmi.uni-sofia.bg
SUMMARY:Заседание на ОС на ФСС
DESCRIPTION:На 19.11.2015 г. от 18:15 в заседателната зала на ФМИ ще се проведе заседание на ОС на ФСС с дневен ред:\n \n\n	1. Запознаване на новите членове с устройството и дейността на ФСС.\n	2. HackFMI6\n	3. Гласуване на предложение до деканата за процедурата по записване на горен курс с повече от 3 невзети изпита.\n	4. Администриране на зала 100\n	5. Други\n \n\n	Заседанията на ФСС са отворени и всички студенти и преподаватели във СУ.
URL:https://fss.fmi.uni-sofia.bg/?tribe_events=%d0%b7%d0%b0%d1%81%d0%b5%d0%b4%d0%b0%d0%bd%d0%b8%d0%b5-%d0%bd%d0%b0-%d0%be%d1%81-%d0%bd%d0%b0-%d1%84%d1%81%d1%81
LOCATION:Заседателна зала на ФМИ – зала 206\, Факултет по математика и информатика\, София\, София - град\, 1164\, България
END:VEVENT
END:VCALENDAR