BEGIN:VCALENDAR
VERSION:2.0
PRODID:-//Факултетен студентски съвет при ФМИ - ECPv5.16.3.1//NONSGML v1.0//EN
CALSCALE:GREGORIAN
METHOD:PUBLISH
X-WR-CALNAME:Факултетен студентски съвет при ФМИ
X-ORIGINAL-URL:https://fss.fmi.uni-sofia.bg
X-WR-CALDESC:Events for Факултетен студентски съвет при ФМИ
BEGIN:VTIMEZONE
TZID:Europe/Sofia
BEGIN:DAYLIGHT
TZOFFSETFROM:+0200
TZOFFSETTO:+0300
TZNAME:EEST
DTSTART:20160327T010000
END:DAYLIGHT
BEGIN:STANDARD
TZOFFSETFROM:+0300
TZOFFSETTO:+0200
TZNAME:EET
DTSTART:20161030T010000
END:STANDARD
END:VTIMEZONE
BEGIN:VEVENT
DTSTART;TZID=Europe/Sofia:20160317T090000
DTEND;TZID=Europe/Sofia:20160318T160000
DTSTAMP:20260426T055545
CREATED:20160317T061529Z
LAST-MODIFIED:20160317T061529Z
UID:6600-1458205200-1458316800@fss.fmi.uni-sofia.bg
SUMMARY:За студентите неплатили такса за 2015/16\, летен семестър и без заверка в студентските книжки
DESCRIPTION:
URL:https://fss.fmi.uni-sofia.bg/?tribe_events=%d0%b7%d0%b0-%d1%81%d1%82%d1%83%d0%b4%d0%b5%d0%bd%d1%82%d0%b8%d1%82%d0%b5-%d0%bd%d0%b5%d0%bf%d0%bb%d0%b0%d1%82%d0%b8%d0%bb%d0%b8-%d1%82%d0%b0%d0%ba%d1%81%d0%b0-%d0%b7%d0%b0-201516-%d0%bb%d0%b5%d1%82
END:VEVENT
END:VCALENDAR