BEGIN:VCALENDAR
VERSION:2.0
PRODID:-//Факултетен студентски съвет при ФМИ - ECPv5.16.3.1//NONSGML v1.0//EN
CALSCALE:GREGORIAN
METHOD:PUBLISH
X-WR-CALNAME:Факултетен студентски съвет при ФМИ
X-ORIGINAL-URL:https://fss.fmi.uni-sofia.bg
X-WR-CALDESC:Events for Факултетен студентски съвет при ФМИ
BEGIN:VTIMEZONE
TZID:Europe/Sofia
BEGIN:DAYLIGHT
TZOFFSETFROM:+0200
TZOFFSETTO:+0300
TZNAME:EEST
DTSTART:20160327T010000
END:DAYLIGHT
BEGIN:STANDARD
TZOFFSETFROM:+0300
TZOFFSETTO:+0200
TZNAME:EET
DTSTART:20161030T010000
END:STANDARD
END:VTIMEZONE
BEGIN:VEVENT
DTSTART;TZID=Europe/Sofia:20160302T140000
DTEND;TZID=Europe/Sofia:20160302T170000
DTSTAMP:20260425T212055
CREATED:20160224T070441Z
LAST-MODIFIED:20160224T070441Z
UID:6405-1456927200-1456938000@fss.fmi.uni-sofia.bg
SUMMARY:Информационна среща по програма "Еразъм +"
DESCRIPTION:Уважаеми колеги\,\n \n\n	на 2.03.2016 г.\, сряда\, от 14:00 в Аула "Магна" (Ректорат) ще се проведе информационна среща за всички заинтересовани студенти и докторанти към програма "Еразъм +". Очакваме Ви! 
URL:https://fss.fmi.uni-sofia.bg/?tribe_events=%d0%b8%d0%bd%d1%84%d0%be%d1%80%d0%bc%d0%b0%d1%86%d0%b8%d0%be%d0%bd%d0%bd%d0%b0-%d1%81%d1%80%d0%b5%d1%89%d0%b0-%d0%bf%d0%be-%d0%bf%d1%80%d0%be%d0%b3%d1%80%d0%b0%d0%bc%d0%b0-%d0%b5%d1%80%d0%b0%d0%b7-2
LOCATION:Аула „Магна“\, Софийски университет "Св. Климент Охридски"\, Ректорат\, София\, София - град\, 1504\, България
END:VEVENT
END:VCALENDAR