BEGIN:VCALENDAR
VERSION:2.0
PRODID:-//Факултетен студентски съвет при ФМИ - ECPv5.16.3.1//NONSGML v1.0//EN
CALSCALE:GREGORIAN
METHOD:PUBLISH
X-WR-CALNAME:Факултетен студентски съвет при ФМИ
X-ORIGINAL-URL:https://fss.fmi.uni-sofia.bg
X-WR-CALDESC:Events for Факултетен студентски съвет при ФМИ
BEGIN:VTIMEZONE
TZID:Europe/Sofia
BEGIN:DAYLIGHT
TZOFFSETFROM:+0200
TZOFFSETTO:+0300
TZNAME:EEST
DTSTART:20150329T010000
END:DAYLIGHT
BEGIN:STANDARD
TZOFFSETFROM:+0300
TZOFFSETTO:+0200
TZNAME:EET
DTSTART:20151025T010000
END:STANDARD
END:VTIMEZONE
BEGIN:VEVENT
DTSTART;TZID=Europe/Sofia:20151206T100000
DTEND;TZID=Europe/Sofia:20151206T170000
DTSTAMP:20260425T223043
CREATED:20151205T180456Z
LAST-MODIFIED:20151205T181031Z
UID:6040-1449396000-1449421200@fss.fmi.uni-sofia.bg
SUMMARY:Копие на 76-то състезание по математика "Putnam"
DESCRIPTION:На 6.XII.2015 г. от 10.00 часа в зала 325 на ФМИ ще се проведе копие на 76-то състезание по математика "Putnam". Поканват се всички желаещи.\n \n\n	\n	http://www.fmi.uni-sofia.bg/news_html/76-Putnam-2015\n \n\n	 
URL:https://fss.fmi.uni-sofia.bg/?tribe_events=%d0%ba%d0%be%d0%bf%d0%b8%d0%b5-%d0%bd%d0%b0-76-%d1%82%d0%be-%d1%81%d1%8a%d1%81%d1%82%d0%b5%d0%b7%d0%b0%d0%bd%d0%b8%d0%b5-%d0%bf%d0%be-%d0%bc%d0%b0%d1%82%d0%b5%d0%bc%d0%b0%d1%82%d0%b8%d0%ba%d0%b0-put
LOCATION:зала 325\, Факултет по математика и информатика\, София\, София - град\, 1164\, България
END:VEVENT
END:VCALENDAR