BEGIN:VCALENDAR
VERSION:2.0
PRODID:-//Факултетен студентски съвет при ФМИ - ECPv5.16.3.1//NONSGML v1.0//EN
CALSCALE:GREGORIAN
METHOD:PUBLISH
X-WR-CALNAME:Факултетен студентски съвет при ФМИ
X-ORIGINAL-URL:https://fss.fmi.uni-sofia.bg
X-WR-CALDESC:Events for Факултетен студентски съвет при ФМИ
BEGIN:VTIMEZONE
TZID:Europe/Sofia
BEGIN:DAYLIGHT
TZOFFSETFROM:+0200
TZOFFSETTO:+0300
TZNAME:EEST
DTSTART:20140330T010000
END:DAYLIGHT
BEGIN:STANDARD
TZOFFSETFROM:+0300
TZOFFSETTO:+0200
TZNAME:EET
DTSTART:20141026T010000
END:STANDARD
END:VTIMEZONE
BEGIN:VEVENT
DTSTART;TZID=Europe/Sofia:20141217T100000
DTEND;TZID=Europe/Sofia:20141217T150000
DTSTAMP:20260425T174812
CREATED:20141216T060559Z
LAST-MODIFIED:20141216T174153Z
UID:4848-1418810400-1418828400@fss.fmi.uni-sofia.bg
SUMMARY:Лекция на Онтотекст
DESCRIPTION:По повод 125 г. ФМИ се осъществяват редица мерояприятия. Едно от тези ще бъде лекцията на Онтотекст на 17.12.2014 г. (сряда) от 10:00 в зала 200. Компанията ще направи кратък увод в семантични бази данни\, анализ на текст и семантично търсене. Ще представи и няколко реални приложения на тези технологии: от генериране на тематични страници в спортния уеб сайт на BBC\, през препоръчване на съдържание на FT.COM до търсене в отчети за клинични изследвания на AstraZeneca. \n \n\n	Но кои са Онтотекст?\n \n\n	Това е българска софтуерна фирма\, водещ доставчик на семантични бази данни и системи за управление на документи и съдържание. Продуктите на Онтотекст стъпват на изследвания и иновации в няколко области: анализ на текст (NLP\, information extraction)\, логически изводи (reasoning)\, семантичен уеб (Web 3.0\, linked open data)\, графови бази данни (NoSQL)\, пълнотекстово търсене (information retrieval). \n \n\n	Клиенти на фирмата са BBC\, Financial Times\, AstraZeneca\, John Wiley & Sons\, Oxford University Press\, парламента на Великобритания\, банки\, телекоми\, музеи и други. \n \n\n	Елате да се запознаете с техния богат опит!
URL:https://fss.fmi.uni-sofia.bg/?tribe_events=%d0%bb%d0%b5%d0%ba%d1%86%d0%b8%d1%8f-%d0%bd%d0%b0-%d0%be%d0%bd%d1%82%d0%be%d1%82%d0%b5%d0%ba%d1%81%d1%82
LOCATION:зала 200\, Факултет по математика и информатика\, София\, София - град\, 1164\, България
CATEGORIES:фирмени презентации
ATTACH;FMTTYPE=image/png:https://fss.fmi.uni-sofia.bg/wp-content/uploads/2014/12/logo.png
END:VEVENT
END:VCALENDAR