BEGIN:VCALENDAR
VERSION:2.0
PRODID:-//Факултетен студентски съвет при ФМИ - ECPv5.16.3.1//NONSGML v1.0//EN
CALSCALE:GREGORIAN
METHOD:PUBLISH
X-WR-CALNAME:Факултетен студентски съвет при ФМИ
X-ORIGINAL-URL:https://fss.fmi.uni-sofia.bg
X-WR-CALDESC:Events for Факултетен студентски съвет при ФМИ
BEGIN:VTIMEZONE
TZID:Europe/Sofia
BEGIN:DAYLIGHT
TZOFFSETFROM:+0200
TZOFFSETTO:+0300
TZNAME:EEST
DTSTART:20150329T010000
END:DAYLIGHT
BEGIN:STANDARD
TZOFFSETFROM:+0300
TZOFFSETTO:+0200
TZNAME:EET
DTSTART:20151025T010000
END:STANDARD
END:VTIMEZONE
BEGIN:VEVENT
DTSTART;TZID=Europe/Sofia:20151218T080000
DTEND;TZID=Europe/Sofia:20151220T170000
DTSTAMP:20260426T004633
CREATED:20151205T180954Z
LAST-MODIFIED:20151205T180954Z
UID:6041-1450425600-1450630800@fss.fmi.uni-sofia.bg
SUMMARY:Междууниверситетско състезание по математика
DESCRIPTION:От 18 до 20 декември в УАСГ ще се проведе Междууниверситетско състезание по математика. Желаещите да участват да се обадят или да пишат на доц. Бабев или на гл. ас. А. Божилов. На базата на резултатите от това състезание и "Putnam" (и евентуално вътрешен кръг) ще се определят участниците в представителните отбори на ФМИ.\n \n\n	http://www.fmi.uni-sofia.bg/news_html/mejduuniversitetsko-systezanie-mathematika-2015\n \n\n	 
URL:https://fss.fmi.uni-sofia.bg/?tribe_events=%d0%bc%d0%b5%d0%b6%d0%b4%d1%83%d1%83%d0%bd%d0%b8%d0%b2%d0%b5%d1%80%d1%81%d0%b8%d1%82%d0%b5%d1%82%d1%81%d0%ba%d0%be-%d1%81%d1%8a%d1%81%d1%82%d0%b5%d0%b7%d0%b0%d0%bd%d0%b8%d0%b5-%d0%bf%d0%be-%d0%bc
LOCATION:УАСГ\, бул. „Христо Смирненски“ 1\, София\, 1046\, България
END:VEVENT
END:VCALENDAR