BEGIN:VCALENDAR
VERSION:2.0
PRODID:-//Факултетен студентски съвет при ФМИ - ECPv5.16.3.1//NONSGML v1.0//EN
CALSCALE:GREGORIAN
METHOD:PUBLISH
X-WR-CALNAME:Факултетен студентски съвет при ФМИ
X-ORIGINAL-URL:https://fss.fmi.uni-sofia.bg
X-WR-CALDESC:Events for Факултетен студентски съвет при ФМИ
BEGIN:VTIMEZONE
TZID:Europe/Sofia
BEGIN:DAYLIGHT
TZOFFSETFROM:+0200
TZOFFSETTO:+0300
TZNAME:EEST
DTSTART:20140330T010000
END:DAYLIGHT
BEGIN:STANDARD
TZOFFSETFROM:+0300
TZOFFSETTO:+0200
TZNAME:EET
DTSTART:20141026T010000
END:STANDARD
END:VTIMEZONE
BEGIN:VEVENT
DTSTART;TZID=Europe/Sofia:20141201T183000
DTEND;TZID=Europe/Sofia:20141201T210000
DTSTAMP:20260425T192405
CREATED:20141130T114411Z
LAST-MODIFIED:20141130T114526Z
UID:4748-1417458600-1417467600@fss.fmi.uni-sofia.bg
SUMMARY:Общо събрание на ФСС при ФМИ
DESCRIPTION:Дневен ред:\n\n\n	1. Отчет на изборите и въвеждане на новите членове\n	2. Представяне на процедурата за изборите и свободните постове.\n	3. Коледна украса на ФМИ.\n	4. Коледен куиз?\n	5. Проекто-бюджет на ФСС за 2015 г.\n	6. Избор на лица за поддръжка на сайта на ФСС:\n\n\n\n\n			Новини\n		\n\n			Допълнителни обучения\n		\n\n			Клубове по интереси\n		\n\n			Информация за ФСС\n		\n\n			Полезни ресурси\n		\n\n			Контакти\n		\n\n\n\n\n		7. Предложение за правилник и график за зала 100 и приемно време на ФСС.\n		8. Готовност за дипломирането на абсолвентите.\n	\n\n		9. Други
URL:https://fss.fmi.uni-sofia.bg/?tribe_events=%d0%be%d0%b1%d1%89%d0%be-%d1%81%d1%8a%d0%b1%d1%80%d0%b0%d0%bd%d0%b8%d0%b5-%d0%bd%d0%b0-%d1%84%d1%81%d1%81-%d0%bf%d1%80%d0%b8-%d1%84%d0%bc%d0%b8
LOCATION:Заседателна зала на ФМИ – зала 206\, Факултет по математика и информатика\, София\, София - град\, 1164\, България
CATEGORIES:събрания
END:VEVENT
END:VCALENDAR