BEGIN:VCALENDAR
VERSION:2.0
PRODID:-//Факултетен студентски съвет при ФМИ - ECPv5.16.3.1//NONSGML v1.0//EN
CALSCALE:GREGORIAN
METHOD:PUBLISH
X-WR-CALNAME:Факултетен студентски съвет при ФМИ
X-ORIGINAL-URL:https://fss.fmi.uni-sofia.bg
X-WR-CALDESC:Events for Факултетен студентски съвет при ФМИ
BEGIN:VTIMEZONE
TZID:Europe/Sofia
BEGIN:DAYLIGHT
TZOFFSETFROM:+0200
TZOFFSETTO:+0300
TZNAME:EEST
DTSTART:20160327T010000
END:DAYLIGHT
BEGIN:STANDARD
TZOFFSETFROM:+0300
TZOFFSETTO:+0200
TZNAME:EET
DTSTART:20161030T010000
END:STANDARD
END:VTIMEZONE
BEGIN:VEVENT
DTSTART;TZID=Europe/Sofia:20160704T133000
DTEND;TZID=Europe/Sofia:20160704T170000
DTSTAMP:20260426T001149
CREATED:20160623T043442Z
LAST-MODIFIED:20160623T043442Z
UID:7377-1467639000-1467651600@fss.fmi.uni-sofia.bg
SUMMARY:ОС на ФМИ
DESCRIPTION:На 4 юли(понеделник) от 14ч. в зала 325 ще се проведе ОС на ФМИ със следния дневен ред:\n \n\n\n		Отчет за дейността на Декана и зам. деканите.\n	\n\n		Попълване състава на комисиите и Факултетния съвет на ФМИ.\n	\n\n\n	Начало на регистрацията: 13.30 ч. \n \n\n	Председател на ОС на ФМИ:\n	проф. д-р Красен Стефанов
URL:https://fss.fmi.uni-sofia.bg/?tribe_events=%d0%be%d1%81-%d0%bd%d0%b0-%d1%84%d0%bc%d0%b8
LOCATION:зала 325\, Факултет по математика и информатика\, София\, София - град\, 1164\, България
END:VEVENT
END:VCALENDAR