BEGIN:VCALENDAR
VERSION:2.0
PRODID:-//Факултетен студентски съвет при ФМИ - ECPv5.16.3.1//NONSGML v1.0//EN
CALSCALE:GREGORIAN
METHOD:PUBLISH
X-WR-CALNAME:Факултетен студентски съвет при ФМИ
X-ORIGINAL-URL:https://fss.fmi.uni-sofia.bg
X-WR-CALDESC:Events for Факултетен студентски съвет при ФМИ
BEGIN:VTIMEZONE
TZID:Europe/Sofia
BEGIN:DAYLIGHT
TZOFFSETFROM:+0200
TZOFFSETTO:+0300
TZNAME:EEST
DTSTART:20160327T010000
END:DAYLIGHT
BEGIN:STANDARD
TZOFFSETFROM:+0300
TZOFFSETTO:+0200
TZNAME:EET
DTSTART:20161030T010000
END:STANDARD
END:VTIMEZONE
BEGIN:VEVENT
DTSTART;TZID=Europe/Sofia:20160307T190000
DTEND;TZID=Europe/Sofia:20160307T210000
DTSTAMP:20260425T225521
CREATED:20160307T052507Z
LAST-MODIFIED:20160307T052507Z
UID:6519-1457377200-1457384400@fss.fmi.uni-sofia.bg
SUMMARY:ОС на ФСС
DESCRIPTION:Дневен ред:\n \n\n	1. Предаване на отчет от Слави Боянов за времето му като председател\n	2. Избиране на 3ти член за комисията за избор на председател\n	3. Провеждане на избори за председател и секретар\n	4. Други
URL:https://fss.fmi.uni-sofia.bg/?tribe_events=%d0%be%d1%81-%d0%bd%d0%b0-%d1%84%d1%81%d1%81
LOCATION:Заседателна зала на ФМИ – зала 206\, Факултет по математика и информатика\, София\, София - град\, 1164\, България
CATEGORIES:избори,отчет,председател,събрания
END:VEVENT
END:VCALENDAR