BEGIN:VCALENDAR
VERSION:2.0
PRODID:-//Факултетен студентски съвет при ФМИ - ECPv5.16.3.1//NONSGML v1.0//EN
CALSCALE:GREGORIAN
METHOD:PUBLISH
X-WR-CALNAME:Факултетен студентски съвет при ФМИ
X-ORIGINAL-URL:https://fss.fmi.uni-sofia.bg
X-WR-CALDESC:Events for Факултетен студентски съвет при ФМИ
BEGIN:VTIMEZONE
TZID:Europe/Sofia
BEGIN:DAYLIGHT
TZOFFSETFROM:+0200
TZOFFSETTO:+0300
TZNAME:EEST
DTSTART:20160327T010000
END:DAYLIGHT
BEGIN:STANDARD
TZOFFSETFROM:+0300
TZOFFSETTO:+0200
TZNAME:EET
DTSTART:20161030T010000
END:STANDARD
END:VTIMEZONE
BEGIN:VEVENT
DTSTART;TZID=Europe/Sofia:20160315T190000
DTEND;TZID=Europe/Sofia:20160315T210000
DTSTAMP:20260426T042442
CREATED:20160314T214048Z
LAST-MODIFIED:20160314T214048Z
UID:6517-1458068400-1458075600@fss.fmi.uni-sofia.bg
SUMMARY:ОС на ФСС
DESCRIPTION:Уважаеми колеги\,\n \n\n	на 15.03.2016 в Заседателната зала на ФМИ\, ще се състой Общо събрание на ФСС с дневен ред:\n	 \n \n\n	1. Избор за 3-ти член на Изборната комиия за избиране на ръководителни органи във ФСС на ФМИ.\n	2. Провеждане на избори за Председател на Комисията по връзки с обществеността.\n	3. Избор за секретариат.\n	4. Представяне на дейностите\, котио извършват постоянните комисии.\n	5. Определяне на времето за провеждане на обучение на преподаватели за работа с moodle.\n	6. Определяне на хората\, които ще могат да вземат ключ от зала 100 и изготвяне на съответен списък с техните имена.\n	7. Разни \n	Изпратените до този момент кандидатури\, може да намерите тук.
URL:https://fss.fmi.uni-sofia.bg/?tribe_events=%d0%be%d1%81-%d0%bd%d0%b0-%d1%84%d1%81%d1%81-2
LOCATION:Заседателна зала на ФМИ – зала 206\, Факултет по математика и информатика\, София\, София - град\, 1164\, България
CATEGORIES:moodle обучение,зала 100,избори,представяне на комисиите,събрания
END:VEVENT
END:VCALENDAR