BEGIN:VCALENDAR
VERSION:2.0
PRODID:-//Факултетен студентски съвет при ФМИ - ECPv5.16.3.1//NONSGML v1.0//EN
CALSCALE:GREGORIAN
METHOD:PUBLISH
X-WR-CALNAME:Факултетен студентски съвет при ФМИ
X-ORIGINAL-URL:https://fss.fmi.uni-sofia.bg
X-WR-CALDESC:Events for Факултетен студентски съвет при ФМИ
BEGIN:VTIMEZONE
TZID:Europe/Sofia
BEGIN:DAYLIGHT
TZOFFSETFROM:+0200
TZOFFSETTO:+0300
TZNAME:EEST
DTSTART:20160327T010000
END:DAYLIGHT
BEGIN:STANDARD
TZOFFSETFROM:+0300
TZOFFSETTO:+0200
TZNAME:EET
DTSTART:20161030T010000
END:STANDARD
END:VTIMEZONE
BEGIN:VEVENT
DTSTART;TZID=Europe/Sofia:20160604T130000
DTEND;TZID=Europe/Sofia:20160604T160000
DTSTAMP:20260426T031824
CREATED:20160601T055422Z
LAST-MODIFIED:20160601T055422Z
UID:7315-1465045200-1465056000@fss.fmi.uni-sofia.bg
SUMMARY:ОС на ФСС
DESCRIPTION:На 4 юни(събота) от 13.00ч. в Заседателната зала на ФМИ ще се проведе ОС на ФСС със следния дневен ред.
URL:https://fss.fmi.uni-sofia.bg/?tribe_events=%d0%be%d1%81-%d0%bd%d0%b0-%d1%84%d1%81%d1%81-4
CATEGORIES:отчет,председател,събрания,ФМИ,членове
END:VEVENT
END:VCALENDAR