BEGIN:VCALENDAR
VERSION:2.0
PRODID:-//Факултетен студентски съвет при ФМИ - ECPv5.16.3.1//NONSGML v1.0//EN
CALSCALE:GREGORIAN
METHOD:PUBLISH
X-WR-CALNAME:Факултетен студентски съвет при ФМИ
X-ORIGINAL-URL:https://fss.fmi.uni-sofia.bg
X-WR-CALDESC:Events for Факултетен студентски съвет при ФМИ
BEGIN:VTIMEZONE
TZID:Europe/Sofia
BEGIN:DAYLIGHT
TZOFFSETFROM:+0200
TZOFFSETTO:+0300
TZNAME:EEST
DTSTART:20160327T010000
END:DAYLIGHT
BEGIN:STANDARD
TZOFFSETFROM:+0300
TZOFFSETTO:+0200
TZNAME:EET
DTSTART:20161030T010000
END:STANDARD
END:VTIMEZONE
BEGIN:VEVENT
DTSTART;VALUE=DATE:20160718
DTEND;VALUE=DATE:20160903
DTSTAMP:20260425T192402
CREATED:20160630T143508Z
LAST-MODIFIED:20160630T143508Z
UID:7391-1468800000-1472860799@fss.fmi.uni-sofia.bg
SUMMARY:Подаване на документи за кандидатстване за магистърски програми
DESCRIPTION:Документи за кандидатсвтане може да подавате в работните дни в периодите 18 юли – 22 юли 2016 г. и 22 август – 2 септември 2016 г. \n	в отдел „Студенти” на ФМИ (ФМИ\, стая 220)\n	9:30 – 12:00  и  13:30 – 16:30 ч. \n	Отдел “Студенти”\n	Местоположение: ФМИ\, ет. II\, Дясно крило\, каб. 221 – за бакалаври\n	Местоположение: ФМИ\, ет. II\, Дясно крило\, каб. 220 – за магистри\n	Приемно време: 9:30 – 12:00 и 13:30 – 16:00 ч.\n	Mail: studenti@fmi.uni-sofia.bg\n	Тел.: 02 8161 542 или 02 8623 483
URL:https://fss.fmi.uni-sofia.bg/?tribe_events=%d0%bf%d0%be%d0%b4%d0%b0%d0%b2%d0%b0%d0%bd%d0%b5-%d0%bd%d0%b0-%d0%b4%d0%be%d0%ba%d1%83%d0%bc%d0%b5%d0%bd%d1%82%d0%b8-%d0%b7%d0%b0-%d0%ba%d0%b0%d0%bd%d0%b4%d0%b8%d0%b4%d0%b0%d1%82%d1%81%d1%82%d0%b2
LOCATION:Отдел „Студенти“ – каб. 220 (за магистри)\, каб. 221 (за бакалаври)\, Факултет по математика и информатика\, София\, София - град\, 1164\, България
CATEGORIES:ФМИ
END:VEVENT
END:VCALENDAR