BEGIN:VCALENDAR
VERSION:2.0
PRODID:-//Факултетен студентски съвет при ФМИ - ECPv5.16.3.1//NONSGML v1.0//EN
CALSCALE:GREGORIAN
METHOD:PUBLISH
X-WR-CALNAME:Факултетен студентски съвет при ФМИ
X-ORIGINAL-URL:https://fss.fmi.uni-sofia.bg
X-WR-CALDESC:Events for Факултетен студентски съвет при ФМИ
BEGIN:VTIMEZONE
TZID:Europe/Sofia
BEGIN:DAYLIGHT
TZOFFSETFROM:+0200
TZOFFSETTO:+0300
TZNAME:EEST
DTSTART:20160327T010000
END:DAYLIGHT
BEGIN:STANDARD
TZOFFSETFROM:+0300
TZOFFSETTO:+0200
TZNAME:EET
DTSTART:20161030T010000
END:STANDARD
END:VTIMEZONE
BEGIN:VEVENT
DTSTART;TZID=Europe/Sofia:20160516T093000
DTEND;TZID=Europe/Sofia:20160705T160000
DTSTAMP:20260425T223042
CREATED:20160515T062253Z
LAST-MODIFIED:20160515T062253Z
UID:7217-1463391000-1467734400@fss.fmi.uni-sofia.bg
SUMMARY:Подаване на молби за допускане до ДИ
DESCRIPTION:От 16 май до 5 юли ще може да подавате молби за допускане до Държавен изпит\, който ще се проведе на 12 и 13 юли.\n	Молбите ще се приемат в отдел "Студенти". \n	Отдел "Студенти"\n	Местоположение: ФМИ\, ет. II\, Дясно крило\, каб. 221\n	Приемно време:  9:30 – 12:00 и 13:30 – 16:00 ч.\n	Mail: studenti@fmi.uni-sofia.bg\n	Тел.: 02 8161 542 или 02 8623 483
URL:https://fss.fmi.uni-sofia.bg/?tribe_events=%d0%bf%d0%be%d0%b4%d0%b0%d0%b2%d0%b0%d0%bd%d0%b5-%d0%bd%d0%b0-%d0%bc%d0%be%d0%bb%d0%b1%d0%b8-%d0%b7%d0%b0-%d0%b4%d0%be%d0%bf%d1%83%d1%81%d0%ba%d0%b0%d0%bd%d0%b5-%d0%b4%d0%be-%d0%b4%d0%b8
LOCATION:Отдел „Студенти“ – каб. 220 (за магистри)\, каб. 221 (за бакалаври)\, Факултет по математика и информатика\, София\, София - град\, 1164\, България
CATEGORIES:държавен изпит,ФМИ
END:VEVENT
END:VCALENDAR