BEGIN:VCALENDAR
VERSION:2.0
PRODID:-//Факултетен студентски съвет при ФМИ - ECPv5.16.3.1//NONSGML v1.0//EN
CALSCALE:GREGORIAN
METHOD:PUBLISH
X-WR-CALNAME:Факултетен студентски съвет при ФМИ
X-ORIGINAL-URL:https://fss.fmi.uni-sofia.bg
X-WR-CALDESC:Events for Факултетен студентски съвет при ФМИ
BEGIN:VTIMEZONE
TZID:Europe/Sofia
BEGIN:DAYLIGHT
TZOFFSETFROM:+0200
TZOFFSETTO:+0300
TZNAME:EEST
DTSTART:20150329T010000
END:DAYLIGHT
BEGIN:STANDARD
TZOFFSETFROM:+0300
TZOFFSETTO:+0200
TZNAME:EET
DTSTART:20151025T010000
END:STANDARD
END:VTIMEZONE
BEGIN:VEVENT
DTSTART;TZID=Europe/Sofia:20150601T141500
DTEND;TZID=Europe/Sofia:20150601T190000
DTSTAMP:20260425T174811
CREATED:20150530T210514Z
LAST-MODIFIED:20150530T210514Z
UID:5607-1433168100-1433185200@fss.fmi.uni-sofia.bg
SUMMARY:Семинар по Оптимизация
DESCRIPTION:На 1 юни 2015г. (понеделник) от 14:15 ч. в ауд. 501 на ФМИ ще се проведе сбирка на Семинара по Оптимизация.\nДокладчици: Мира Бивас и Михаил Хамамджиев\nТема: Метрична регулярност и приложения
URL:https://fss.fmi.uni-sofia.bg/?tribe_events=%d1%81%d0%b5%d0%bc%d0%b8%d0%bd%d0%b0%d1%80-%d0%bf%d0%be-%d0%be%d0%bf%d1%82%d0%b8%d0%bc%d0%b8%d0%b7%d0%b0%d1%86%d0%b8%d1%8f-2
LOCATION:зала 501\, Факултет по математика и информатика\, София\, София - град\, 1164\, България
CATEGORIES:семинар
END:VEVENT
END:VCALENDAR