BEGIN:VCALENDAR
VERSION:2.0
PRODID:-//Факултетен студентски съвет при ФМИ - ECPv5.16.3.1//NONSGML v1.0//EN
CALSCALE:GREGORIAN
METHOD:PUBLISH
X-WR-CALNAME:Факултетен студентски съвет при ФМИ
X-ORIGINAL-URL:https://fss.fmi.uni-sofia.bg
X-WR-CALDESC:Events for Факултетен студентски съвет при ФМИ
BEGIN:VTIMEZONE
TZID:Europe/Sofia
BEGIN:DAYLIGHT
TZOFFSETFROM:+0200
TZOFFSETTO:+0300
TZNAME:EEST
DTSTART:20150329T010000
END:DAYLIGHT
BEGIN:STANDARD
TZOFFSETFROM:+0300
TZOFFSETTO:+0200
TZNAME:EET
DTSTART:20151025T010000
END:STANDARD
END:VTIMEZONE
BEGIN:VEVENT
DTSTART;TZID=Europe/Sofia:20150110T100000
DTEND;TZID=Europe/Sofia:20150110T130000
DTSTAMP:20260425T192401
CREATED:20150105T112059Z
LAST-MODIFIED:20150106T001625Z
UID:4963-1420884000-1420894800@fss.fmi.uni-sofia.bg
SUMMARY:Семинар по професионална реализация в Математиката
DESCRIPTION:Математическо моделиране в биологията – ас. Тихомир Иванов\n		\n\n\n\n			Евакуация на тълпи – докторант Мира Бивас\n		\n\n\n\n			Математическо моделиране – проф. д.м.н. Михаил Кръстанов
URL:https://fss.fmi.uni-sofia.bg/?tribe_events=%d1%81%d0%b5%d0%bc%d0%b8%d0%bd%d0%b0%d1%80-%d0%bf%d0%be-%d0%bf%d1%80%d0%be%d1%84%d0%b5%d1%81%d0%b8%d0%be%d0%bd%d0%b0%d0%bb%d0%bd%d0%b0-%d1%80%d0%b5%d0%b0%d0%bb%d0%b8%d0%b7%d0%b0%d1%86%d0%b8%d1%8f
LOCATION:зала 200\, Факултет по математика и информатика\, София\, София - град\, 1164\, България
CATEGORIES:семинар
END:VEVENT
END:VCALENDAR