BEGIN:VCALENDAR
VERSION:2.0
PRODID:-//Факултетен студентски съвет при ФМИ - ECPv5.16.3.1//NONSGML v1.0//EN
CALSCALE:GREGORIAN
METHOD:PUBLISH
X-WR-CALNAME:Факултетен студентски съвет при ФМИ
X-ORIGINAL-URL:https://fss.fmi.uni-sofia.bg
X-WR-CALDESC:Events for Факултетен студентски съвет при ФМИ
BEGIN:VTIMEZONE
TZID:Europe/Sofia
BEGIN:DAYLIGHT
TZOFFSETFROM:+0200
TZOFFSETTO:+0300
TZNAME:EEST
DTSTART:20160327T010000
END:DAYLIGHT
BEGIN:STANDARD
TZOFFSETFROM:+0300
TZOFFSETTO:+0200
TZNAME:EET
DTSTART:20161030T010000
END:STANDARD
END:VTIMEZONE
BEGIN:VEVENT
DTSTART;TZID=Europe/Sofia:20160409T100000
DTEND;TZID=Europe/Sofia:20160409T180000
DTSTAMP:20260425T192402
CREATED:20160407T084033Z
LAST-MODIFIED:20160407T084033Z
UID:6867-1460196000-1460224800@fss.fmi.uni-sofia.bg
SUMMARY:Турнир по Бордови игри - разучаване на игрите\, които ще участват на Турнира
DESCRIPTION:Скъпи колеги\,\n \n\n	на 09.04 в зали 326 и 500\, ще можете да се запознаете с правилата на игрите\, които ще участват в Турнира.\n	 
URL:https://fss.fmi.uni-sofia.bg/?tribe_events=%d1%82%d1%83%d1%80%d0%bd%d0%b8%d1%80-%d0%bf%d0%be-%d0%b1%d0%be%d1%80%d0%b4%d0%be%d0%b2%d0%b8-%d0%b8%d0%b3%d1%80%d0%b8-%d1%80%d0%b0%d0%b7%d1%83%d1%87%d0%b0%d0%b2%d0%b0%d0%bd%d0%b5-%d0%bd%d0%b0-%d0%b8
LOCATION:Зала 326\, Факултет по математика и информатика\, София\, София - град\, 1164\, България
END:VEVENT
END:VCALENDAR