BEGIN:VCALENDAR
VERSION:2.0
PRODID:-//Факултетен студентски съвет при ФМИ - ECPv5.16.3.1//NONSGML v1.0//EN
CALSCALE:GREGORIAN
METHOD:PUBLISH
X-WR-CALNAME:Факултетен студентски съвет при ФМИ
X-ORIGINAL-URL:https://fss.fmi.uni-sofia.bg
X-WR-CALDESC:Events for Факултетен студентски съвет при ФМИ
BEGIN:VTIMEZONE
TZID:Europe/Sofia
BEGIN:DAYLIGHT
TZOFFSETFROM:+0200
TZOFFSETTO:+0300
TZNAME:EEST
DTSTART:20150329T010000
END:DAYLIGHT
BEGIN:STANDARD
TZOFFSETFROM:+0300
TZOFFSETTO:+0200
TZNAME:EET
DTSTART:20151025T010000
END:STANDARD
END:VTIMEZONE
BEGIN:VEVENT
DTSTART;TZID=Europe/Sofia:20150216T090000
DTEND;TZID=Europe/Sofia:20150216T140000
DTSTAMP:20260425T011618
CREATED:20150213T172928Z
LAST-MODIFIED:20150213T173035Z
UID:5136-1424077200-1424095200@fss.fmi.uni-sofia.bg
SUMMARY:ДО по УП за ИС - I курс
DESCRIPTION:На  16.02.2015г (понеделник) от 9:00 часа  в зала 01 ще се проведе допълнително краткосрочно обучение по  Увод в програмирането за студентите от специалност „Информационни системи“.\nЛектор: гл. ас. Д. Димитров\nОбучението се организира в рамките на програма ЕОС.
URL:https://fss.fmi.uni-sofia.bg/?tribe_events=5136
LOCATION:зала 01\, Факултет по математика и информатика\, София\, София - град\, 1164\, България
CATEGORIES:допълнителни обучения
END:VEVENT
END:VCALENDAR