BEGIN:VCALENDAR
VERSION:2.0
PRODID:-//Факултетен студентски съвет при ФМИ - ECPv5.16.3.1//NONSGML v1.0//EN
CALSCALE:GREGORIAN
METHOD:PUBLISH
X-WR-CALNAME:Факултетен студентски съвет при ФМИ
X-ORIGINAL-URL:https://fss.fmi.uni-sofia.bg
X-WR-CALDESC:Events for Факултетен студентски съвет при ФМИ
BEGIN:VTIMEZONE
TZID:Europe/Sofia
BEGIN:DAYLIGHT
TZOFFSETFROM:+0200
TZOFFSETTO:+0300
TZNAME:EEST
DTSTART:20150329T010000
END:DAYLIGHT
BEGIN:STANDARD
TZOFFSETFROM:+0300
TZOFFSETTO:+0200
TZNAME:EET
DTSTART:20151025T010000
END:STANDARD
END:VTIMEZONE
BEGIN:VEVENT
DTSTART;TZID=Europe/Sofia:20150608T110000
DTEND;TZID=Europe/Sofia:20150608T130000
DTSTAMP:20260426T055020
CREATED:20150606T211733Z
LAST-MODIFIED:20150606T211838Z
UID:5648-1433761200-1433768400@fss.fmi.uni-sofia.bg
SUMMARY:ДО по Алгебра II за КН - II курс
DESCRIPTION:На 08.06.2015 г. (понеделник) от 11 до 13 часа 326 на ФМИ ще се проведе допълнително краткосрочно обучение по Алгебра ІІ (подготовка за контролно) за студентите от ІІ-ри курс\, спец. Компютърни науки.\nЛектор: Велислав Бодуров.\nОбучението се организира в рамките на програма ЕОС.
URL:https://fss.fmi.uni-sofia.bg/?tribe_events=5648
LOCATION:Зала 326\, Факултет по математика и информатика\, София\, София - град\, 1164\, България
CATEGORIES:допълнителни обучения
END:VEVENT
END:VCALENDAR