BEGIN:VCALENDAR
VERSION:2.0
PRODID:-//Факултетен студентски съвет при ФМИ - ECPv5.16.3.1//NONSGML v1.0//EN
CALSCALE:GREGORIAN
METHOD:PUBLISH
X-WR-CALNAME:Факултетен студентски съвет при ФМИ
X-ORIGINAL-URL:https://fss.fmi.uni-sofia.bg
X-WR-CALDESC:Events for Факултетен студентски съвет при ФМИ
BEGIN:VTIMEZONE
TZID:Europe/Sofia
BEGIN:DAYLIGHT
TZOFFSETFROM:+0200
TZOFFSETTO:+0300
TZNAME:EEST
DTSTART:20150329T010000
END:DAYLIGHT
BEGIN:STANDARD
TZOFFSETFROM:+0300
TZOFFSETTO:+0200
TZNAME:EET
DTSTART:20151025T010000
END:STANDARD
END:VTIMEZONE
BEGIN:VEVENT
DTSTART;TZID=Europe/Sofia:20150612T100000
DTEND;TZID=Europe/Sofia:20150612T150000
DTSTAMP:20260425T192054
CREATED:20150611T205029Z
LAST-MODIFIED:20150611T205912Z
UID:5670-1434103200-1434121200@fss.fmi.uni-sofia.bg
SUMMARY:ДО по ЧМА - подготовка за Държавен изпит
DESCRIPTION:На 12.06.2015 г. (петък) от 10 часа в стая 218 на ФМИ ще се проведе консултация по ЧМА – теория за подготовка за Държавен изпит. \n \n\n	Лектор: доц. Лозко Милев.
URL:https://fss.fmi.uni-sofia.bg/?tribe_events=5670
LOCATION:зала 218\, Факултет по математика и информатика\, София\, София - град\, 1164\, България
CATEGORIES:допълнителни обучения
END:VEVENT
END:VCALENDAR