BEGIN:VCALENDAR
VERSION:2.0
PRODID:-//Факултетен студентски съвет при ФМИ - ECPv5.16.3.1//NONSGML v1.0//EN
CALSCALE:GREGORIAN
METHOD:PUBLISH
X-WR-CALNAME:Факултетен студентски съвет при ФМИ
X-ORIGINAL-URL:https://fss.fmi.uni-sofia.bg
X-WR-CALDESC:Events for Факултетен студентски съвет при ФМИ
BEGIN:VTIMEZONE
TZID:Europe/Sofia
BEGIN:DAYLIGHT
TZOFFSETFROM:+0200
TZOFFSETTO:+0300
TZNAME:EEST
DTSTART:20140330T010000
END:DAYLIGHT
BEGIN:STANDARD
TZOFFSETFROM:+0300
TZOFFSETTO:+0200
TZNAME:EET
DTSTART:20141026T010000
END:STANDARD
END:VTIMEZONE
BEGIN:VEVENT
DTSTART;TZID=Europe/Sofia:20141203T160000
DTEND;TZID=Europe/Sofia:20141203T170000
DTSTAMP:20260425T173033
CREATED:20141130T010216Z
LAST-MODIFIED:20141130T014825Z
UID:4705-1417622400-1417626000@fss.fmi.uni-sofia.bg
SUMMARY:Google @ ФМИ
DESCRIPTION:Мартин Енев\, завършил студент от ФМИ и работещ в швейцарския клон на Google ще ни разкаже какви са практиките и технологиите\, които Google използва\, за да създава едни от най-популярните продукти на света. Освен това имате възможността да кандидатствате за стаж или работа в Гугъл. Ако сте вдъхновени да разработвате софтуерни продукти\, които променят света – кандидатствайте!
URL:https://fss.fmi.uni-sofia.bg/?tribe_events=google-%d1%84%d0%bc%d0%b8
LOCATION:зала 210\, Факултет по химия и фармация\, София\, София - град\, 1164\, България
CATEGORIES:фирмени презентации
END:VEVENT
END:VCALENDAR