BEGIN:VCALENDAR
VERSION:2.0
PRODID:-//Факултетен студентски съвет при ФМИ - ECPv5.16.3.1//NONSGML v1.0//EN
CALSCALE:GREGORIAN
METHOD:PUBLISH
X-WR-CALNAME:Факултетен студентски съвет при ФМИ
X-ORIGINAL-URL:https://fss.fmi.uni-sofia.bg
X-WR-CALDESC:Events for Факултетен студентски съвет при ФМИ
BEGIN:VTIMEZONE
TZID:Europe/Sofia
BEGIN:DAYLIGHT
TZOFFSETFROM:+0200
TZOFFSETTO:+0300
TZNAME:EEST
DTSTART:20150329T010000
END:DAYLIGHT
BEGIN:STANDARD
TZOFFSETFROM:+0300
TZOFFSETTO:+0200
TZNAME:EET
DTSTART:20151025T010000
END:STANDARD
END:VTIMEZONE
BEGIN:VEVENT
DTSTART;TZID=Europe/Sofia:20151218T180000
DTEND;TZID=Europe/Sofia:20151220T235500
DTSTAMP:20260426T034618
CREATED:20151205T143306Z
LAST-MODIFIED:20151205T143306Z
UID:6039-1450461600-1450655700@fss.fmi.uni-sofia.bg
SUMMARY:HackFMI 6 - Hack For Gadgets
DESCRIPTION:Време е за 6-то издание на HackFMI!\n \n\n	Бързата и важна информация първо:\n\n\n\n		Този път темата е хардуерна\, благодарение на Жоро Пенков\, който я предложи на финала на HackFMI 5!\n	\n\n		Настроението ще бъде предколедно\, защото датите на хакатона са 18ти\, 19ти и 20ти декември!\n	\n\n		Хакатонът ще е отворен за участие за всеки\, навършил 18 години. Студенти от ТУ и НБУ са повече от добре дошли \n	\n\n\n	Темата на хакатона – Hack for Gadgets\n\n\n	Дългоочакваната хардуерна тема вече е факт!\n \n\n	Това\, което ще очакваме от всеки от участниците е да направи нещо яко или да реши интересен проблем\, използвайки и хардуер\, освен софтуер.\n \n\n	Под хардуер\, разбираме всякакви неща освен лаптопа / компютъра\, който е използван за разработка. Raspberry Pi\, Arduino\, Olimex\, различни сензори\, играчки\, умни часовници\, умни колани – всичко е добре дошло!\n \n\n	Например\, Olimex създадоха интересна хардуерна джаджа за изминалия OpenFest.\n \n\n	Друга яка идея е този useless wireless duck!\n \n\n	Нямаме търпение да видим кой какво ще измисли! \n \n\n	Снабдяване с нужния хардуер\n\n\n	В момента говорим с Robotev и Olimex\, за да насочим хората към места\, от където може да се сдобият с нужния хардуер\, за да реализират идеята си.\n \n\n	Една от основните идеи на HackFMI е човек да пробва нещо ново в рамките на 3 дни. Дори и да нямаш предишен хардуерен опит\, това не трябва да те спира от участие!\n \n\n	Приеми го като възможност да направиш нещо яко и интересно. Като за старт\, може да погледнеш този YouTube канал\, в който има поредица – “Electronics Basics”\n \n\n	Записване за хакатона\n\n\n	Ако нещо се счупи\, пиши на support@hackbulgaria.com\n \n\n	Записването е отворено и може да се регистрирате / влезете в системата и да създадете своя отбор!\n \n\n	Срокът за финализиране на всички отбори е 16ти декември.
URL:https://fss.fmi.uni-sofia.bg/?tribe_events=hackfmi-6-hack-for-gadgets
LOCATION:Факултет по математика и информатика\, бул. "Джеймс Баучер" №5\, София\, София - град\, 1164\, България
CATEGORIES:хакатон
END:VEVENT
END:VCALENDAR